BEGIN:VCALENDAR
VERSION:2.0
PRODID:-//Kala Point Owners&#039; Association - ECPv6.15.20//NONSGML v1.0//EN
CALSCALE:GREGORIAN
METHOD:PUBLISH
X-ORIGINAL-URL:https://kalapoint.org
X-WR-CALDESC:Events for Kala Point Owners&#039; Association
REFRESH-INTERVAL;VALUE=DURATION:PT1H
X-Robots-Tag:noindex
X-PUBLISHED-TTL:PT1H
BEGIN:VTIMEZONE
TZID:America/Los_Angeles
BEGIN:DAYLIGHT
TZOFFSETFROM:-0800
TZOFFSETTO:-0700
TZNAME:PDT
DTSTART:20240310T100000
END:DAYLIGHT
BEGIN:STANDARD
TZOFFSETFROM:-0700
TZOFFSETTO:-0800
TZNAME:PST
DTSTART:20241103T090000
END:STANDARD
BEGIN:DAYLIGHT
TZOFFSETFROM:-0800
TZOFFSETTO:-0700
TZNAME:PDT
DTSTART:20250309T100000
END:DAYLIGHT
BEGIN:STANDARD
TZOFFSETFROM:-0700
TZOFFSETTO:-0800
TZNAME:PST
DTSTART:20251102T090000
END:STANDARD
BEGIN:DAYLIGHT
TZOFFSETFROM:-0800
TZOFFSETTO:-0700
TZNAME:PDT
DTSTART:20260308T100000
END:DAYLIGHT
BEGIN:STANDARD
TZOFFSETFROM:-0700
TZOFFSETTO:-0800
TZNAME:PST
DTSTART:20261101T090000
END:STANDARD
END:VTIMEZONE
BEGIN:VEVENT
DTSTART;TZID=America/Los_Angeles:20250306T133000
DTEND;TZID=America/Los_Angeles:20250306T150000
DTSTAMP:20260419T153342
CREATED:20250225T235906Z
LAST-MODIFIED:20250301T174014Z
UID:10009170-1741267800-1741273200@kalapoint.org
SUMMARY:APP III review
DESCRIPTION:APP III review in the admin conference room
URL:https://kalapoint.org/event/app-iii-review/
CATEGORIES:Admin Conference room
END:VEVENT
BEGIN:VEVENT
DTSTART;TZID=America/Los_Angeles:20250307T100000
DTEND;TZID=America/Los_Angeles:20250307T123000
DTSTAMP:20260419T153342
CREATED:20250305T164611Z
LAST-MODIFIED:20250305T164611Z
UID:10009456-1741341600-1741350600@kalapoint.org
SUMMARY:BMAC Committee meeting
DESCRIPTION:BMAC Committee meeting in the admin conference room
URL:https://kalapoint.org/event/bmac-committee-meeting/
CATEGORIES:Admin Conference room
END:VEVENT
BEGIN:VEVENT
DTSTART;TZID=America/Los_Angeles:20250310T100000
DTEND;TZID=America/Los_Angeles:20250310T120000
DTSTAMP:20260419T153342
CREATED:20250307T202129Z
LAST-MODIFIED:20250307T202129Z
UID:10009459-1741600800-1741608000@kalapoint.org
SUMMARY:BMAC meeting
DESCRIPTION:10-12 Contact Scott Love for details
URL:https://kalapoint.org/event/bmac-meeting-4/
CATEGORIES:Admin Conference room
END:VEVENT
BEGIN:VEVENT
DTSTART;TZID=America/Los_Angeles:20250310T133000
DTEND;TZID=America/Los_Angeles:20250310T143000
DTSTAMP:20260419T153342
CREATED:20230615T151324Z
LAST-MODIFIED:20250813T211156Z
UID:10003782-1741613400-1741617000@kalapoint.org
SUMMARY:Publications Committee Meeting
DESCRIPTION:The Publications Meeting will be held in the administrative conference room.
URL:https://kalapoint.org/event/publications-committee-meeting-3-2/2025-03-10/
CATEGORIES:Admin Conference room,Committee Meetings
END:VEVENT
BEGIN:VEVENT
DTSTART;TZID=America/Los_Angeles:20250312T100000
DTEND;TZID=America/Los_Angeles:20250312T120000
DTSTAMP:20260419T153342
CREATED:20250227T173515Z
LAST-MODIFIED:20250303T183138Z
UID:10009171-1741773600-1741780800@kalapoint.org
SUMMARY:ICC meeting
DESCRIPTION:ICC meeting in the Admin Conference room
URL:https://kalapoint.org/event/icc-meeting-2/
CATEGORIES:Admin Conference room
END:VEVENT
BEGIN:VEVENT
DTSTART;TZID=America/Los_Angeles:20250327T093000
DTEND;TZID=America/Los_Angeles:20250327T233000
DTSTAMP:20260419T153342
CREATED:20250121T202112Z
LAST-MODIFIED:20250519T200825Z
UID:10008979-1743067800-1743118200@kalapoint.org
SUMMARY:Grounds Committee Meeting
DESCRIPTION:Grounds Committee Meeting in the Admin Conference Room
URL:https://kalapoint.org/event/grounds-committee-meeting-5/2025-03-27/
CATEGORIES:Admin Conference room
END:VEVENT
END:VCALENDAR