BEGIN:VCALENDAR
VERSION:2.0
PRODID:-//Kala Point Owners&#039; Association - ECPv6.15.20//NONSGML v1.0//EN
CALSCALE:GREGORIAN
METHOD:PUBLISH
X-ORIGINAL-URL:https://kalapoint.org
X-WR-CALDESC:Events for Kala Point Owners&#039; Association
REFRESH-INTERVAL;VALUE=DURATION:PT1H
X-Robots-Tag:noindex
X-PUBLISHED-TTL:PT1H
BEGIN:VTIMEZONE
TZID:UTC
BEGIN:STANDARD
TZOFFSETFROM:+0000
TZOFFSETTO:+0000
TZNAME:UTC
DTSTART:20210101T000000
END:STANDARD
END:VTIMEZONE
BEGIN:VEVENT
DTSTART;TZID=UTC:20220216T103000
DTEND;TZID=UTC:20220216T113000
DTSTAMP:20260424T054522
CREATED:20220122T000123Z
LAST-MODIFIED:20220122T000123Z
UID:10002413-1645007400-1645011000@kalapoint.org
SUMMARY:Kala Point Condo Association
DESCRIPTION:In the clubhouse Main room
URL:https://kalapoint.org/event/kala-point-condo-association/2022-02-16/
CATEGORIES:Clubhouse Events
END:VEVENT
END:VCALENDAR