BEGIN:VCALENDAR
VERSION:2.0
PRODID:-//Kala Point Owners&#039; Association - ECPv6.15.20//NONSGML v1.0//EN
CALSCALE:GREGORIAN
METHOD:PUBLISH
X-ORIGINAL-URL:https://kalapoint.org
X-WR-CALDESC:Events for Kala Point Owners&#039; Association
REFRESH-INTERVAL;VALUE=DURATION:PT1H
X-Robots-Tag:noindex
X-PUBLISHED-TTL:PT1H
BEGIN:VTIMEZONE
TZID:America/Los_Angeles
BEGIN:DAYLIGHT
TZOFFSETFROM:-0800
TZOFFSETTO:-0700
TZNAME:PDT
DTSTART:20260308T100000
END:DAYLIGHT
BEGIN:STANDARD
TZOFFSETFROM:-0700
TZOFFSETTO:-0800
TZNAME:PST
DTSTART:20261101T090000
END:STANDARD
BEGIN:DAYLIGHT
TZOFFSETFROM:-0800
TZOFFSETTO:-0700
TZNAME:PDT
DTSTART:20270314T100000
END:DAYLIGHT
BEGIN:STANDARD
TZOFFSETFROM:-0700
TZOFFSETTO:-0800
TZNAME:PST
DTSTART:20271107T090000
END:STANDARD
BEGIN:DAYLIGHT
TZOFFSETFROM:-0800
TZOFFSETTO:-0700
TZNAME:PDT
DTSTART:20280312T100000
END:DAYLIGHT
BEGIN:STANDARD
TZOFFSETFROM:-0700
TZOFFSETTO:-0800
TZNAME:PST
DTSTART:20281105T090000
END:STANDARD
END:VTIMEZONE
BEGIN:VEVENT
DTSTART;TZID=America/Los_Angeles:20270607T103000
DTEND;TZID=America/Los_Angeles:20270607T160000
DTSTAMP:20260423T004139
CREATED:20220919T205033Z
LAST-MODIFIED:20250519T194926Z
UID:10005509-1812364200-1812384000@kalapoint.org
SUMMARY:Bridge Group
DESCRIPTION:Bridge in the Clubhouse Main Room
URL:https://kalapoint.org/event/bridge-group/2027-06-07/
CATEGORIES:Clubhouse Events,Main Room
END:VEVENT
BEGIN:VEVENT
DTSTART;TZID=America/Los_Angeles:20270614T103000
DTEND;TZID=America/Los_Angeles:20270614T160000
DTSTAMP:20260423T004139
CREATED:20220919T205033Z
LAST-MODIFIED:20250519T194926Z
UID:10005510-1812969000-1812988800@kalapoint.org
SUMMARY:Bridge Group
DESCRIPTION:Bridge in the Clubhouse Main Room
URL:https://kalapoint.org/event/bridge-group/2027-06-14/
CATEGORIES:Clubhouse Events,Main Room
END:VEVENT
BEGIN:VEVENT
DTSTART;TZID=America/Los_Angeles:20270621T103000
DTEND;TZID=America/Los_Angeles:20270621T160000
DTSTAMP:20260423T004139
CREATED:20220919T205033Z
LAST-MODIFIED:20250519T194926Z
UID:10005511-1813573800-1813593600@kalapoint.org
SUMMARY:Bridge Group
DESCRIPTION:Bridge in the Clubhouse Main Room
URL:https://kalapoint.org/event/bridge-group/2027-06-21/
CATEGORIES:Clubhouse Events,Main Room
END:VEVENT
BEGIN:VEVENT
DTSTART;TZID=America/Los_Angeles:20270628T103000
DTEND;TZID=America/Los_Angeles:20270628T160000
DTSTAMP:20260423T004139
CREATED:20220919T205033Z
LAST-MODIFIED:20250519T194926Z
UID:10005512-1814178600-1814198400@kalapoint.org
SUMMARY:Bridge Group
DESCRIPTION:Bridge in the Clubhouse Main Room
URL:https://kalapoint.org/event/bridge-group/2027-06-28/
CATEGORIES:Clubhouse Events,Main Room
END:VEVENT
END:VCALENDAR