BEGIN:VCALENDAR
VERSION:2.0
PRODID:-//Kala Point Owners&#039; Association - ECPv6.15.20//NONSGML v1.0//EN
CALSCALE:GREGORIAN
METHOD:PUBLISH
X-WR-CALNAME:Kala Point Owners&#039; Association
X-ORIGINAL-URL:https://kalapoint.org
X-WR-CALDESC:Events for Kala Point Owners&#039; Association
REFRESH-INTERVAL;VALUE=DURATION:PT1H
X-Robots-Tag:noindex
X-PUBLISHED-TTL:PT1H
BEGIN:VTIMEZONE
TZID:America/Los_Angeles
BEGIN:DAYLIGHT
TZOFFSETFROM:-0800
TZOFFSETTO:-0700
TZNAME:PDT
DTSTART:20260308T100000
END:DAYLIGHT
BEGIN:STANDARD
TZOFFSETFROM:-0700
TZOFFSETTO:-0800
TZNAME:PST
DTSTART:20261101T090000
END:STANDARD
BEGIN:DAYLIGHT
TZOFFSETFROM:-0800
TZOFFSETTO:-0700
TZNAME:PDT
DTSTART:20270314T100000
END:DAYLIGHT
BEGIN:STANDARD
TZOFFSETFROM:-0700
TZOFFSETTO:-0800
TZNAME:PST
DTSTART:20271107T090000
END:STANDARD
BEGIN:DAYLIGHT
TZOFFSETFROM:-0800
TZOFFSETTO:-0700
TZNAME:PDT
DTSTART:20280312T100000
END:DAYLIGHT
BEGIN:STANDARD
TZOFFSETFROM:-0700
TZOFFSETTO:-0800
TZNAME:PST
DTSTART:20281105T090000
END:STANDARD
END:VTIMEZONE
BEGIN:VEVENT
DTSTART;TZID=America/Los_Angeles:20270802T103000
DTEND;TZID=America/Los_Angeles:20270802T160000
DTSTAMP:20260423T174506
CREATED:20220919T205033Z
LAST-MODIFIED:20250519T194926Z
UID:10005517-1817202600-1817222400@kalapoint.org
SUMMARY:Bridge Group
DESCRIPTION:Bridge in the Clubhouse Main Room
URL:https://kalapoint.org/event/bridge-group/2027-08-02/
CATEGORIES:Clubhouse Events,Main Room
END:VEVENT
BEGIN:VEVENT
DTSTART;TZID=America/Los_Angeles:20270809T103000
DTEND;TZID=America/Los_Angeles:20270809T160000
DTSTAMP:20260423T174506
CREATED:20220919T205033Z
LAST-MODIFIED:20250519T194926Z
UID:10005518-1817807400-1817827200@kalapoint.org
SUMMARY:Bridge Group
DESCRIPTION:Bridge in the Clubhouse Main Room
URL:https://kalapoint.org/event/bridge-group/2027-08-09/
CATEGORIES:Clubhouse Events,Main Room
END:VEVENT
BEGIN:VEVENT
DTSTART;TZID=America/Los_Angeles:20270816T103000
DTEND;TZID=America/Los_Angeles:20270816T160000
DTSTAMP:20260423T174506
CREATED:20220919T205033Z
LAST-MODIFIED:20250519T194926Z
UID:10005519-1818412200-1818432000@kalapoint.org
SUMMARY:Bridge Group
DESCRIPTION:Bridge in the Clubhouse Main Room
URL:https://kalapoint.org/event/bridge-group/2027-08-16/
CATEGORIES:Clubhouse Events,Main Room
END:VEVENT
BEGIN:VEVENT
DTSTART;TZID=America/Los_Angeles:20270823T103000
DTEND;TZID=America/Los_Angeles:20270823T160000
DTSTAMP:20260423T174506
CREATED:20220919T205033Z
LAST-MODIFIED:20250519T194926Z
UID:10005520-1819017000-1819036800@kalapoint.org
SUMMARY:Bridge Group
DESCRIPTION:Bridge in the Clubhouse Main Room
URL:https://kalapoint.org/event/bridge-group/2027-08-23/
CATEGORIES:Clubhouse Events,Main Room
END:VEVENT
BEGIN:VEVENT
DTSTART;TZID=America/Los_Angeles:20270830T103000
DTEND;TZID=America/Los_Angeles:20270830T160000
DTSTAMP:20260423T174506
CREATED:20220919T205033Z
LAST-MODIFIED:20250519T194926Z
UID:10005521-1819621800-1819641600@kalapoint.org
SUMMARY:Bridge Group
DESCRIPTION:Bridge in the Clubhouse Main Room
URL:https://kalapoint.org/event/bridge-group/2027-08-30/
CATEGORIES:Clubhouse Events,Main Room
END:VEVENT
END:VCALENDAR