BEGIN:VCALENDAR
VERSION:2.0
PRODID:-//Kala Point Owners&#039; Association - ECPv6.15.20//NONSGML v1.0//EN
CALSCALE:GREGORIAN
METHOD:PUBLISH
X-WR-CALNAME:Kala Point Owners&#039; Association
X-ORIGINAL-URL:https://kalapoint.org
X-WR-CALDESC:Events for Kala Point Owners&#039; Association
REFRESH-INTERVAL;VALUE=DURATION:PT1H
X-Robots-Tag:noindex
X-PUBLISHED-TTL:PT1H
BEGIN:VTIMEZONE
TZID:UTC
BEGIN:STANDARD
TZOFFSETFROM:+0000
TZOFFSETTO:+0000
TZNAME:UTC
DTSTART:20230101T000000
END:STANDARD
END:VTIMEZONE
BEGIN:VTIMEZONE
TZID:America/Los_Angeles
BEGIN:DAYLIGHT
TZOFFSETFROM:-0800
TZOFFSETTO:-0700
TZNAME:PDT
DTSTART:20230312T100000
END:DAYLIGHT
BEGIN:STANDARD
TZOFFSETFROM:-0700
TZOFFSETTO:-0800
TZNAME:PST
DTSTART:20231105T090000
END:STANDARD
BEGIN:DAYLIGHT
TZOFFSETFROM:-0800
TZOFFSETTO:-0700
TZNAME:PDT
DTSTART:20240310T100000
END:DAYLIGHT
BEGIN:STANDARD
TZOFFSETFROM:-0700
TZOFFSETTO:-0800
TZNAME:PST
DTSTART:20241103T090000
END:STANDARD
BEGIN:DAYLIGHT
TZOFFSETFROM:-0800
TZOFFSETTO:-0700
TZNAME:PDT
DTSTART:20250309T100000
END:DAYLIGHT
BEGIN:STANDARD
TZOFFSETFROM:-0700
TZOFFSETTO:-0800
TZNAME:PST
DTSTART:20251102T090000
END:STANDARD
END:VTIMEZONE
BEGIN:VEVENT
DTSTART;TZID=UTC:20240902T140000
DTEND;TZID=UTC:20240902T153000
DTSTAMP:20260421T154719
CREATED:20220111T011954Z
LAST-MODIFIED:20220912T132433Z
UID:10001885-1725285600-1725291000@kalapoint.org
SUMMARY:Publications Committee
DESCRIPTION:in Fireplace room
URL:https://kalapoint.org/event/publications-2024-09-02/
CATEGORIES:Committee Meetings,Zoom
END:VEVENT
BEGIN:VEVENT
DTSTART;TZID=America/Los_Angeles:20240904T150000
DTEND;TZID=America/Los_Angeles:20240904T150000
DTSTAMP:20260421T154719
CREATED:20240828T150413Z
LAST-MODIFIED:20240828T152212Z
UID:10003383-1725462000-1725462000@kalapoint.org
SUMMARY:Project Study Committee
DESCRIPTION:In Fireplace room
URL:https://kalapoint.org/event/strategic-planning-committee-2-2-2-3-2/
CATEGORIES:Committee Meetings
END:VEVENT
BEGIN:VEVENT
DTSTART;TZID=America/Los_Angeles:20240909T133000
DTEND;TZID=America/Los_Angeles:20240909T143000
DTSTAMP:20260421T154719
CREATED:20230615T151324Z
LAST-MODIFIED:20250813T211156Z
UID:10003776-1725888600-1725892200@kalapoint.org
SUMMARY:Publications Committee Meeting
DESCRIPTION:The Publications Meeting will be held in the administrative conference room.
URL:https://kalapoint.org/event/publications-committee-meeting-3-2/2024-09-09/
CATEGORIES:Admin Conference room,Committee Meetings
END:VEVENT
BEGIN:VEVENT
DTSTART;TZID=UTC:20240919T093000
DTEND;TZID=UTC:20240919T120000
DTSTAMP:20260421T154719
CREATED:20240207T153628Z
LAST-MODIFIED:20250519T195305Z
UID:10007174-1726738200-1726747200@kalapoint.org
SUMMARY:Architectural Meeting
DESCRIPTION:In the Clubhouse Fireplace Room
URL:https://kalapoint.org/event/architectural-meeting-2022-01-20-3-2/2024-09-19/
LOCATION:Clubhouse Fireplace Room\, 1760 Kala Point Drive\, Port Townsend\, WA\, 98368\, United States
CATEGORIES:Committee Meetings,Fireplace Room
END:VEVENT
BEGIN:VEVENT
DTSTART;TZID=America/Los_Angeles:20240929T160000
DTEND;TZID=America/Los_Angeles:20240929T180000
DTSTAMP:20260421T154719
CREATED:20240124T180852Z
LAST-MODIFIED:20240124T181123Z
UID:10007161-1727625600-1727632800@kalapoint.org
SUMMARY:Newcomers Meet and Greet
DESCRIPTION:The Social plus committee will be hosting the Newcomers social in the fireplace room. \nThis is for the newcomers only.
URL:https://kalapoint.org/event/newcomers-meet-and-greet/
CATEGORIES:Committee Meetings,Fireplace Room
END:VEVENT
END:VCALENDAR