BEGIN:VCALENDAR
VERSION:2.0
PRODID:-//Kala Point Owners&#039; Association - ECPv6.15.20//NONSGML v1.0//EN
CALSCALE:GREGORIAN
METHOD:PUBLISH
X-ORIGINAL-URL:https://kalapoint.org
X-WR-CALDESC:Events for Kala Point Owners&#039; Association
REFRESH-INTERVAL;VALUE=DURATION:PT1H
X-Robots-Tag:noindex
X-PUBLISHED-TTL:PT1H
BEGIN:VTIMEZONE
TZID:America/Los_Angeles
BEGIN:DAYLIGHT
TZOFFSETFROM:-0800
TZOFFSETTO:-0700
TZNAME:PDT
DTSTART:20230312T100000
END:DAYLIGHT
BEGIN:STANDARD
TZOFFSETFROM:-0700
TZOFFSETTO:-0800
TZNAME:PST
DTSTART:20231105T090000
END:STANDARD
BEGIN:DAYLIGHT
TZOFFSETFROM:-0800
TZOFFSETTO:-0700
TZNAME:PDT
DTSTART:20240310T100000
END:DAYLIGHT
BEGIN:STANDARD
TZOFFSETFROM:-0700
TZOFFSETTO:-0800
TZNAME:PST
DTSTART:20241103T090000
END:STANDARD
BEGIN:DAYLIGHT
TZOFFSETFROM:-0800
TZOFFSETTO:-0700
TZNAME:PDT
DTSTART:20250309T100000
END:DAYLIGHT
BEGIN:STANDARD
TZOFFSETFROM:-0700
TZOFFSETTO:-0800
TZNAME:PST
DTSTART:20251102T090000
END:STANDARD
END:VTIMEZONE
BEGIN:VTIMEZONE
TZID:UTC
BEGIN:STANDARD
TZOFFSETFROM:+0000
TZOFFSETTO:+0000
TZNAME:UTC
DTSTART:20230101T000000
END:STANDARD
END:VTIMEZONE
BEGIN:VEVENT
DTSTART;TZID=America/Los_Angeles:20241203T130000
DTEND;TZID=America/Los_Angeles:20241203T170000
DTSTAMP:20260425T200251
CREATED:20240124T182515Z
LAST-MODIFIED:20240124T182515Z
UID:10007163-1733230800-1733245200@kalapoint.org
SUMMARY:Social Plus Committee Meeting
DESCRIPTION:The social plus quarterly committee meeting will be held in the fireplace room of the clubhouse.
URL:https://kalapoint.org/event/social-plus-committee-meeting-5/
CATEGORIES:Committee Meetings,Fireplace Room
END:VEVENT
BEGIN:VEVENT
DTSTART;TZID=America/Los_Angeles:20241203T150000
DTEND;TZID=America/Los_Angeles:20241203T170000
DTSTAMP:20260425T200251
CREATED:20240930T194443Z
LAST-MODIFIED:20250714T181603Z
UID:10008257-1733238000-1733245200@kalapoint.org
SUMMARY:Project Study Committee
DESCRIPTION:Project Study Committee in the Fireplace room
URL:https://kalapoint.org/event/project-study-committee-2/2024-12-03/
CATEGORIES:Committee Meetings
END:VEVENT
BEGIN:VEVENT
DTSTART;TZID=America/Los_Angeles:20241209T133000
DTEND;TZID=America/Los_Angeles:20241209T143000
DTSTAMP:20260425T200251
CREATED:20230615T151324Z
LAST-MODIFIED:20250813T211156Z
UID:10003779-1733751000-1733754600@kalapoint.org
SUMMARY:Publications Committee Meeting
DESCRIPTION:The Publications Meeting will be held in the administrative conference room.
URL:https://kalapoint.org/event/publications-committee-meeting-3-2/2024-12-09/
CATEGORIES:Admin Conference room,Committee Meetings
END:VEVENT
BEGIN:VEVENT
DTSTART;TZID=UTC:20241219T093000
DTEND;TZID=UTC:20241219T120000
DTSTAMP:20260425T200251
CREATED:20241216T221045Z
LAST-MODIFIED:20241216T221046Z
UID:10007177-1734600600-1734609600@kalapoint.org
SUMMARY:CANCELLED - Architectural Meeting
DESCRIPTION:The office has not received any new applications for AC consideration\, so there is no need to hold a meeting on Thursday.\n\nThe next AC meeting will be held at its regularly scheduled time on January 16\, 2025\, Fireside Room\, 9:30 am.\n\nAny questions please contact the AC chair Pat Miles for the remaining few weeks of this year. Thank you for your understanding.
URL:https://kalapoint.org/event/architectural-meeting-2022-01-20-3-2-2/
LOCATION:Clubhouse Fireplace Room\, 1760 Kala Point Drive\, Port Townsend\, WA\, 98368\, United States
CATEGORIES:Committee Meetings,Fireplace Room
END:VEVENT
END:VCALENDAR