BEGIN:VCALENDAR
VERSION:2.0
PRODID:-//Kala Point Owners&#039; Association - ECPv6.15.20//NONSGML v1.0//EN
CALSCALE:GREGORIAN
METHOD:PUBLISH
X-ORIGINAL-URL:https://kalapoint.org
X-WR-CALDESC:Events for Kala Point Owners&#039; Association
REFRESH-INTERVAL;VALUE=DURATION:PT1H
X-Robots-Tag:noindex
X-PUBLISHED-TTL:PT1H
BEGIN:VTIMEZONE
TZID:America/Los_Angeles
BEGIN:DAYLIGHT
TZOFFSETFROM:-0800
TZOFFSETTO:-0700
TZNAME:PDT
DTSTART:20240310T100000
END:DAYLIGHT
BEGIN:STANDARD
TZOFFSETFROM:-0700
TZOFFSETTO:-0800
TZNAME:PST
DTSTART:20241103T090000
END:STANDARD
BEGIN:DAYLIGHT
TZOFFSETFROM:-0800
TZOFFSETTO:-0700
TZNAME:PDT
DTSTART:20250309T100000
END:DAYLIGHT
BEGIN:STANDARD
TZOFFSETFROM:-0700
TZOFFSETTO:-0800
TZNAME:PST
DTSTART:20251102T090000
END:STANDARD
BEGIN:DAYLIGHT
TZOFFSETFROM:-0800
TZOFFSETTO:-0700
TZNAME:PDT
DTSTART:20260308T100000
END:DAYLIGHT
BEGIN:STANDARD
TZOFFSETFROM:-0700
TZOFFSETTO:-0800
TZNAME:PST
DTSTART:20261101T090000
END:STANDARD
END:VTIMEZONE
BEGIN:VTIMEZONE
TZID:UTC
BEGIN:STANDARD
TZOFFSETFROM:+0000
TZOFFSETTO:+0000
TZNAME:UTC
DTSTART:20240101T000000
END:STANDARD
END:VTIMEZONE
BEGIN:VEVENT
DTSTART;TZID=America/Los_Angeles:20250107T103000
DTEND;TZID=America/Los_Angeles:20250107T150000
DTSTAMP:20260423T164206
CREATED:20241113T213609Z
LAST-MODIFIED:20251231T164303Z
UID:10008574-1736245800-1736262000@kalapoint.org
SUMMARY:New Board member orientation
DESCRIPTION:New Board member orientation set up to follow 8-12 people
URL:https://kalapoint.org/event/new-board-member-orientation/
CATEGORIES:Committee Meetings,Main Room
END:VEVENT
BEGIN:VEVENT
DTSTART;TZID=America/Los_Angeles:20250110T090000
DTEND;TZID=America/Los_Angeles:20250110T130000
DTSTAMP:20260423T164206
CREATED:20250109T164536Z
LAST-MODIFIED:20250109T164902Z
UID:10008944-1736499600-1736514000@kalapoint.org
SUMMARY:Social Plus Committee Meeting
DESCRIPTION:Contact Lansil Nithya for details 
URL:https://kalapoint.org/event/social-plus-committee-meeting-3/
CATEGORIES:Committee Meetings,Fireplace Room
END:VEVENT
BEGIN:VEVENT
DTSTART;TZID=America/Los_Angeles:20250113T133000
DTEND;TZID=America/Los_Angeles:20250113T143000
DTSTAMP:20260423T164206
CREATED:20230615T151324Z
LAST-MODIFIED:20250813T211156Z
UID:10003780-1736775000-1736778600@kalapoint.org
SUMMARY:Publications Committee Meeting
DESCRIPTION:The Publications Meeting will be held in the administrative conference room.
URL:https://kalapoint.org/event/publications-committee-meeting-3-2/2025-01-13/
CATEGORIES:Admin Conference room,Committee Meetings
END:VEVENT
BEGIN:VEVENT
DTSTART;TZID=UTC:20250116T093000
DTEND;TZID=UTC:20250116T120000
DTSTAMP:20260423T164206
CREATED:20240207T153628Z
LAST-MODIFIED:20250519T195305Z
UID:10007178-1737019800-1737028800@kalapoint.org
SUMMARY:Architectural Meeting
DESCRIPTION:In the Clubhouse Fireplace Room
URL:https://kalapoint.org/event/architectural-meeting-2022-01-20-3-2/2025-01-16/
LOCATION:Clubhouse Fireplace Room\, 1760 Kala Point Drive\, Port Townsend\, WA\, 98368\, United States
CATEGORIES:Committee Meetings,Fireplace Room
END:VEVENT
BEGIN:VEVENT
DTSTART;TZID=America/Los_Angeles:20250123T093000
DTEND;TZID=America/Los_Angeles:20250123T110000
DTSTAMP:20260423T164206
CREATED:20231129T204323Z
LAST-MODIFIED:20250117T205647Z
UID:10002955-1737624600-1737630000@kalapoint.org
SUMMARY:Grounds Committee Meeting
DESCRIPTION:In person in the Admin Office conference room
URL:https://kalapoint.org/event/grounds-committee-meeting-4-2-2/
CATEGORIES:Admin Conference room,Committee Meetings
END:VEVENT
END:VCALENDAR