BEGIN:VCALENDAR
VERSION:2.0
PRODID:-//Kala Point Owners&#039; Association - ECPv6.15.20//NONSGML v1.0//EN
CALSCALE:GREGORIAN
METHOD:PUBLISH
X-WR-CALNAME:Kala Point Owners&#039; Association
X-ORIGINAL-URL:https://kalapoint.org
X-WR-CALDESC:Events for Kala Point Owners&#039; Association
REFRESH-INTERVAL;VALUE=DURATION:PT1H
X-Robots-Tag:noindex
X-PUBLISHED-TTL:PT1H
BEGIN:VTIMEZONE
TZID:America/Los_Angeles
BEGIN:DAYLIGHT
TZOFFSETFROM:-0800
TZOFFSETTO:-0700
TZNAME:PDT
DTSTART:20230312T100000
END:DAYLIGHT
BEGIN:STANDARD
TZOFFSETFROM:-0700
TZOFFSETTO:-0800
TZNAME:PST
DTSTART:20231105T090000
END:STANDARD
BEGIN:DAYLIGHT
TZOFFSETFROM:-0800
TZOFFSETTO:-0700
TZNAME:PDT
DTSTART:20240310T100000
END:DAYLIGHT
BEGIN:STANDARD
TZOFFSETFROM:-0700
TZOFFSETTO:-0800
TZNAME:PST
DTSTART:20241103T090000
END:STANDARD
BEGIN:DAYLIGHT
TZOFFSETFROM:-0800
TZOFFSETTO:-0700
TZNAME:PDT
DTSTART:20250309T100000
END:DAYLIGHT
BEGIN:STANDARD
TZOFFSETFROM:-0700
TZOFFSETTO:-0800
TZNAME:PST
DTSTART:20251102T090000
END:STANDARD
END:VTIMEZONE
BEGIN:VEVENT
DTSTART;TZID=America/Los_Angeles:20240601T090000
DTEND;TZID=America/Los_Angeles:20240601T150000
DTSTAMP:20260422T185409
CREATED:20240124T172417Z
LAST-MODIFIED:20240124T172444Z
UID:10007157-1717232400-1717254000@kalapoint.org
SUMMARY:Annual KP Garage Sale
DESCRIPTION:The Social plus committee will be holding the annual Kala Point Neighborhood-wide garage sale. \n  \n 
URL:https://kalapoint.org/event/annual-kp-garage-sale/
CATEGORIES:KPOA Community Event
END:VEVENT
BEGIN:VEVENT
DTSTART;TZID=America/Los_Angeles:20240606T190000
DTEND;TZID=America/Los_Angeles:20240606T203000
DTSTAMP:20260422T185409
CREATED:20240529T134019Z
LAST-MODIFIED:20240529T134019Z
UID:10007285-1717700400-1717705800@kalapoint.org
SUMMARY:Townhall meeting KPOA paving project
DESCRIPTION:Townhall meeting KPOA paving project by Phil Brodt seating (for 50 plus? 1 microphone set up)
URL:https://kalapoint.org/event/townhall-meeting-kpoa-paving-project/
CATEGORIES:KPOA Community Event
END:VEVENT
END:VCALENDAR