BEGIN:VCALENDAR
VERSION:2.0
PRODID:-//Kala Point Owners&#039; Association - ECPv6.15.20//NONSGML v1.0//EN
CALSCALE:GREGORIAN
METHOD:PUBLISH
X-ORIGINAL-URL:https://kalapoint.org
X-WR-CALDESC:Events for Kala Point Owners&#039; Association
REFRESH-INTERVAL;VALUE=DURATION:PT1H
X-Robots-Tag:noindex
X-PUBLISHED-TTL:PT1H
BEGIN:VTIMEZONE
TZID:America/Los_Angeles
BEGIN:DAYLIGHT
TZOFFSETFROM:-0800
TZOFFSETTO:-0700
TZNAME:PDT
DTSTART:20230312T100000
END:DAYLIGHT
BEGIN:STANDARD
TZOFFSETFROM:-0700
TZOFFSETTO:-0800
TZNAME:PST
DTSTART:20231105T090000
END:STANDARD
BEGIN:DAYLIGHT
TZOFFSETFROM:-0800
TZOFFSETTO:-0700
TZNAME:PDT
DTSTART:20240310T100000
END:DAYLIGHT
BEGIN:STANDARD
TZOFFSETFROM:-0700
TZOFFSETTO:-0800
TZNAME:PST
DTSTART:20241103T090000
END:STANDARD
BEGIN:DAYLIGHT
TZOFFSETFROM:-0800
TZOFFSETTO:-0700
TZNAME:PDT
DTSTART:20250309T100000
END:DAYLIGHT
BEGIN:STANDARD
TZOFFSETFROM:-0700
TZOFFSETTO:-0800
TZNAME:PST
DTSTART:20251102T090000
END:STANDARD
END:VTIMEZONE
BEGIN:VEVENT
DTSTART;TZID=America/Los_Angeles:20241025T080000
DTEND;TZID=America/Los_Angeles:20241025T170000
DTSTAMP:20260425T202542
CREATED:20241014T150510Z
LAST-MODIFIED:20241014T150510Z
UID:10008558-1729843200-1729875600@kalapoint.org
SUMMARY:Deadline for WAVE food bank donations
DESCRIPTION:Deadline for WAVE food bank donations contact Jean Reed
URL:https://kalapoint.org/event/deadline-for-wave-food-bank-donations/
CATEGORIES:KPOA Community Event
END:VEVENT
BEGIN:VEVENT
DTSTART;TZID=America/Los_Angeles:20241025T150000
DTEND;TZID=America/Los_Angeles:20241025T203000
DTSTAMP:20260425T202542
CREATED:20240403T152249Z
LAST-MODIFIED:20241014T150713Z
UID:10007262-1729868400-1729888200@kalapoint.org
SUMMARY:KP Halloween TGIF
DESCRIPTION:KPOA Halloween TGIF Happy Hour in the clubhouse 430-630 set up at 3pm
URL:https://kalapoint.org/event/kp-halloween-tgif/
CATEGORIES:KPOA Community Event,Main Room
END:VEVENT
END:VCALENDAR