BEGIN:VCALENDAR
VERSION:2.0
PRODID:-//Kala Point Owners&#039; Association - ECPv6.15.20//NONSGML v1.0//EN
CALSCALE:GREGORIAN
METHOD:PUBLISH
X-ORIGINAL-URL:https://kalapoint.org
X-WR-CALDESC:Events for Kala Point Owners&#039; Association
REFRESH-INTERVAL;VALUE=DURATION:PT1H
X-Robots-Tag:noindex
X-PUBLISHED-TTL:PT1H
BEGIN:VTIMEZONE
TZID:America/Los_Angeles
BEGIN:DAYLIGHT
TZOFFSETFROM:-0800
TZOFFSETTO:-0700
TZNAME:PDT
DTSTART:20250309T100000
END:DAYLIGHT
BEGIN:STANDARD
TZOFFSETFROM:-0700
TZOFFSETTO:-0800
TZNAME:PST
DTSTART:20251102T090000
END:STANDARD
BEGIN:DAYLIGHT
TZOFFSETFROM:-0800
TZOFFSETTO:-0700
TZNAME:PDT
DTSTART:20260308T100000
END:DAYLIGHT
BEGIN:STANDARD
TZOFFSETFROM:-0700
TZOFFSETTO:-0800
TZNAME:PST
DTSTART:20261101T090000
END:STANDARD
BEGIN:DAYLIGHT
TZOFFSETFROM:-0800
TZOFFSETTO:-0700
TZNAME:PDT
DTSTART:20270314T100000
END:DAYLIGHT
BEGIN:STANDARD
TZOFFSETFROM:-0700
TZOFFSETTO:-0800
TZNAME:PST
DTSTART:20271107T090000
END:STANDARD
END:VTIMEZONE
BEGIN:VEVENT
DTSTART;TZID=America/Los_Angeles:20260901T090000
DTEND;TZID=America/Los_Angeles:20260901T110000
DTSTAMP:20260420T211457
CREATED:20240703T185533Z
LAST-MODIFIED:20250519T200243Z
UID:10004053-1788253200-1788260400@kalapoint.org
SUMMARY:Finance Meeting
DESCRIPTION:In the Fireplace Room
URL:https://kalapoint.org/event/finance-committee-meeting-2-4-2/2026-09-01/
CATEGORIES:Fireplace Room
END:VEVENT
BEGIN:VEVENT
DTSTART;TZID=America/Los_Angeles:20260903T093000
DTEND;TZID=America/Los_Angeles:20260903T113000
DTSTAMP:20260420T211457
CREATED:20230220T212712Z
LAST-MODIFIED:20250519T200158Z
UID:10003928-1788427800-1788435000@kalapoint.org
SUMMARY:Emergency Preparedness Committee Monthly Meeting
DESCRIPTION:Emergency Preparedness Committee Monthly Meeting in the Fireplace room & Zoom
URL:https://kalapoint.org/event/emergency-preparedness-committee-monthly-meeting/2026-09-03/
CATEGORIES:Fireplace Room
END:VEVENT
BEGIN:VEVENT
DTSTART;TZID=America/Los_Angeles:20260903T130000
DTEND;TZID=America/Los_Angeles:20260903T150000
DTSTAMP:20260420T211457
CREATED:20250217T195506Z
LAST-MODIFIED:20250813T210430Z
UID:10008159-1788440400-1788447600@kalapoint.org
SUMMARY:Elections Committee Meeting
DESCRIPTION:In the Fireplace Room
URL:https://kalapoint.org/event/elections-committee-meeting-9-2/2026-09-03/
CATEGORIES:Committee Meetings,Fireplace Room
END:VEVENT
BEGIN:VEVENT
DTSTART;TZID=America/Los_Angeles:20260904T093000
DTEND;TZID=America/Los_Angeles:20260904T110000
DTSTAMP:20260420T211457
CREATED:20231129T201135Z
LAST-MODIFIED:20250519T200218Z
UID:10006627-1788514200-1788519600@kalapoint.org
SUMMARY:EPC First Aid Meeting
DESCRIPTION:EPC First Aid monthly Meeting for more info contact Terry Rose at 360-385-1940
URL:https://kalapoint.org/event/epc-first-aid-meeting-3/2026-09-04/
CATEGORIES:Fireplace Room
END:VEVENT
BEGIN:VEVENT
DTSTART;TZID=America/Los_Angeles:20260907T130000
DTEND;TZID=America/Los_Angeles:20260907T160000
DTSTAMP:20260420T211457
CREATED:20230203T143141Z
LAST-MODIFIED:20250519T200230Z
UID:10009285-1788786000-1788796800@kalapoint.org
SUMMARY:Mah Jong Afternoons
DESCRIPTION:In the Fireplace Room\, POC: Ann Morriseau
URL:https://kalapoint.org/event/mah-jong-afternoons-2/2026-09-07/
CATEGORIES:Fireplace Room
END:VEVENT
BEGIN:VEVENT
DTSTART;TZID=America/Los_Angeles:20260908T120000
DTEND;TZID=America/Los_Angeles:20260908T160000
DTSTAMP:20260420T211457
CREATED:20260112T184846Z
LAST-MODIFIED:20260112T184848Z
UID:10010466-1788868800-1788883200@kalapoint.org
SUMMARY:PEO Meeting
DESCRIPTION:PEO Meeting in Fireplace room 1-3pm
URL:https://kalapoint.org/event/peo-meeting-5-2/2026-09-08/
CATEGORIES:Fireplace Room
END:VEVENT
BEGIN:VEVENT
DTSTART;TZID=America/Los_Angeles:20260914T100000
DTEND;TZID=America/Los_Angeles:20260914T120000
DTSTAMP:20260420T211457
CREATED:20241004T160145Z
LAST-MODIFIED:20250519T200731Z
UID:10008448-1789380000-1789387200@kalapoint.org
SUMMARY:KPOA Book Club
DESCRIPTION:10am-12pm \nBinds – Book Group – Meets on the 2nd Monday of each month (except December\, June\, July & August) in the Fire Place room at the Clubhouse. Happy to discuss any book you have read or are interested in. Our love of reading has made for fine friendships and lively meetings! – NM
URL:https://kalapoint.org/event/kpoa-book-club-3/2026-09-14/
CATEGORIES:Fireplace Room
END:VEVENT
BEGIN:VEVENT
DTSTART;TZID=America/Los_Angeles:20260917T093000
DTEND;TZID=America/Los_Angeles:20260917T120000
DTSTAMP:20260420T211457
CREATED:20251218T161529Z
LAST-MODIFIED:20251218T161529Z
UID:10010369-1789637400-1789646400@kalapoint.org
SUMMARY:Architectural Committee meeting
DESCRIPTION:In the Fireplace room
URL:https://kalapoint.org/event/architectural-committee-meeting-4/2026-09-17/
CATEGORIES:Committee Meetings,Fireplace Room
END:VEVENT
BEGIN:VEVENT
DTSTART;TZID=America/Los_Angeles:20260920T143000
DTEND;TZID=America/Los_Angeles:20260920T163000
DTSTAMP:20260420T211457
CREATED:20251017T143140Z
LAST-MODIFIED:20251017T161926Z
UID:10010074-1789914600-1789921800@kalapoint.org
SUMMARY:Beach Stewards Meeting
DESCRIPTION:Fireplace room 3-4pm Contact Kris Ethington for details – 949-302-8999 \n  \n5-15 people & no special set up.
URL:https://kalapoint.org/event/beach-stewards-meeting/2026-09-20/
CATEGORIES:Committee Meetings,Fireplace Room
END:VEVENT
BEGIN:VEVENT
DTSTART;TZID=America/Los_Angeles:20260921T130000
DTEND;TZID=America/Los_Angeles:20260921T160000
DTSTAMP:20260420T211457
CREATED:20220218T183752Z
LAST-MODIFIED:20250519T200816Z
UID:10006693-1789995600-1790006400@kalapoint.org
SUMMARY:Mah Jong Afternoons
DESCRIPTION:In the Fireplace Room\, POC: Ann Morriseau
URL:https://kalapoint.org/event/mah-jong-afternoons/2026-09-21/
CATEGORIES:Fireplace Room
END:VEVENT
BEGIN:VEVENT
DTSTART;TZID=America/Los_Angeles:20260922T130000
DTEND;TZID=America/Los_Angeles:20260922T150000
DTSTAMP:20260420T211457
CREATED:20260119T203608Z
LAST-MODIFIED:20260119T203608Z
UID:10010541-1790082000-1790089200@kalapoint.org
SUMMARY:WACIOA Info session
DESCRIPTION:In the fireplace room with Sheryl Grant
URL:https://kalapoint.org/event/wacioa-info-session/2026-09-22/
CATEGORIES:Fireplace Room
END:VEVENT
BEGIN:VEVENT
DTSTART;TZID=America/Los_Angeles:20260923T130000
DTEND;TZID=America/Los_Angeles:20260923T163000
DTSTAMP:20260420T211457
CREATED:20241212T181428Z
LAST-MODIFIED:20250519T200841Z
UID:10004098-1790168400-1790181000@kalapoint.org
SUMMARY:SCHG Mtg
DESCRIPTION:Seattle Children’s Hospital Guild Meeting\, in Main room\, POC: Dawn Spencer: 360-344-2914 \n3-4 card tables
URL:https://kalapoint.org/event/private-event-54/2026-09-23/
CATEGORIES:Event/Activity outside KPOA,Fireplace Room,Main Room
END:VEVENT
BEGIN:VEVENT
DTSTART;TZID=America/Los_Angeles:20260927T160000
DTEND;TZID=America/Los_Angeles:20260927T190000
DTSTAMP:20260420T211457
CREATED:20250715T174809Z
LAST-MODIFIED:20250715T174809Z
UID:10009767-1790524800-1790535600@kalapoint.org
SUMMARY:KPOA Newcomer’s  Social
DESCRIPTION:Fireplace room 4-7pm /Miller & Donnelly
URL:https://kalapoint.org/event/kpoa-newcomers-social-2/
CATEGORIES:Clubhouse Events,Fireplace Room,KPOA Community Event
END:VEVENT
END:VCALENDAR