BEGIN:VCALENDAR
VERSION:2.0
PRODID:-//Kala Point Owners&#039; Association - ECPv6.15.20//NONSGML v1.0//EN
CALSCALE:GREGORIAN
METHOD:PUBLISH
X-ORIGINAL-URL:https://kalapoint.org
X-WR-CALDESC:Events for Kala Point Owners&#039; Association
REFRESH-INTERVAL;VALUE=DURATION:PT1H
X-Robots-Tag:noindex
X-PUBLISHED-TTL:PT1H
BEGIN:VTIMEZONE
TZID:America/Los_Angeles
BEGIN:DAYLIGHT
TZOFFSETFROM:-0800
TZOFFSETTO:-0700
TZNAME:PDT
DTSTART:20250309T100000
END:DAYLIGHT
BEGIN:STANDARD
TZOFFSETFROM:-0700
TZOFFSETTO:-0800
TZNAME:PST
DTSTART:20251102T090000
END:STANDARD
BEGIN:DAYLIGHT
TZOFFSETFROM:-0800
TZOFFSETTO:-0700
TZNAME:PDT
DTSTART:20260308T100000
END:DAYLIGHT
BEGIN:STANDARD
TZOFFSETFROM:-0700
TZOFFSETTO:-0800
TZNAME:PST
DTSTART:20261101T090000
END:STANDARD
BEGIN:DAYLIGHT
TZOFFSETFROM:-0800
TZOFFSETTO:-0700
TZNAME:PDT
DTSTART:20270314T100000
END:DAYLIGHT
BEGIN:STANDARD
TZOFFSETFROM:-0700
TZOFFSETTO:-0800
TZNAME:PST
DTSTART:20271107T090000
END:STANDARD
END:VTIMEZONE
BEGIN:VEVENT
DTSTART;TZID=America/Los_Angeles:20261001T093000
DTEND;TZID=America/Los_Angeles:20261001T113000
DTSTAMP:20260422T102050
CREATED:20230220T212712Z
LAST-MODIFIED:20250519T200158Z
UID:10003929-1790847000-1790854200@kalapoint.org
SUMMARY:Emergency Preparedness Committee Monthly Meeting
DESCRIPTION:Emergency Preparedness Committee Monthly Meeting in the Fireplace room & Zoom
URL:https://kalapoint.org/event/emergency-preparedness-committee-monthly-meeting/2026-10-01/
CATEGORIES:Fireplace Room
END:VEVENT
BEGIN:VEVENT
DTSTART;TZID=America/Los_Angeles:20261001T130000
DTEND;TZID=America/Los_Angeles:20261001T150000
DTSTAMP:20260422T102050
CREATED:20250217T195506Z
LAST-MODIFIED:20250813T210430Z
UID:10008160-1790859600-1790866800@kalapoint.org
SUMMARY:Elections Committee Meeting
DESCRIPTION:In the Fireplace Room
URL:https://kalapoint.org/event/elections-committee-meeting-9-2/2026-10-01/
CATEGORIES:Committee Meetings,Fireplace Room
END:VEVENT
BEGIN:VEVENT
DTSTART;TZID=America/Los_Angeles:20261002T093000
DTEND;TZID=America/Los_Angeles:20261002T110000
DTSTAMP:20260422T102050
CREATED:20231129T201135Z
LAST-MODIFIED:20250519T200218Z
UID:10006628-1790933400-1790938800@kalapoint.org
SUMMARY:EPC First Aid Meeting
DESCRIPTION:EPC First Aid monthly Meeting for more info contact Terry Rose at 360-385-1940
URL:https://kalapoint.org/event/epc-first-aid-meeting-3/2026-10-02/
CATEGORIES:Fireplace Room
END:VEVENT
BEGIN:VEVENT
DTSTART;TZID=America/Los_Angeles:20261005T130000
DTEND;TZID=America/Los_Angeles:20261005T160000
DTSTAMP:20260422T102050
CREATED:20230203T143141Z
LAST-MODIFIED:20250519T200230Z
UID:10009286-1791205200-1791216000@kalapoint.org
SUMMARY:Mah Jong Afternoons
DESCRIPTION:In the Fireplace Room\, POC: Ann Morriseau
URL:https://kalapoint.org/event/mah-jong-afternoons-2/2026-10-05/
CATEGORIES:Fireplace Room
END:VEVENT
BEGIN:VEVENT
DTSTART;TZID=America/Los_Angeles:20261006T090000
DTEND;TZID=America/Los_Angeles:20261006T110000
DTSTAMP:20260422T102050
CREATED:20240703T185533Z
LAST-MODIFIED:20250519T200243Z
UID:10004054-1791277200-1791284400@kalapoint.org
SUMMARY:Finance Meeting
DESCRIPTION:In the Fireplace Room
URL:https://kalapoint.org/event/finance-committee-meeting-2-4-2/2026-10-06/
CATEGORIES:Fireplace Room
END:VEVENT
BEGIN:VEVENT
DTSTART;TZID=America/Los_Angeles:20261006T120000
DTEND;TZID=America/Los_Angeles:20261006T160000
DTSTAMP:20260422T102050
CREATED:20250602T174247Z
LAST-MODIFIED:20260119T195823Z
UID:10010531-1791288000-1791302400@kalapoint.org
SUMMARY:Social Plus Meeting
DESCRIPTION:Meeting in fireplace room 1-3pm See chair for details
URL:https://kalapoint.org/event/social-plus-meeting/2026-10-06/
CATEGORIES:Committee Meetings,Fireplace Room
END:VEVENT
BEGIN:VEVENT
DTSTART;TZID=America/Los_Angeles:20261012T100000
DTEND;TZID=America/Los_Angeles:20261012T120000
DTSTAMP:20260422T102050
CREATED:20241004T160145Z
LAST-MODIFIED:20250519T200731Z
UID:10008449-1791799200-1791806400@kalapoint.org
SUMMARY:KPOA Book Club
DESCRIPTION:10am-12pm \nBinds – Book Group – Meets on the 2nd Monday of each month (except December\, June\, July & August) in the Fire Place room at the Clubhouse. Happy to discuss any book you have read or are interested in. Our love of reading has made for fine friendships and lively meetings! – NM
URL:https://kalapoint.org/event/kpoa-book-club-3/2026-10-12/
CATEGORIES:Fireplace Room
END:VEVENT
BEGIN:VEVENT
DTSTART;TZID=America/Los_Angeles:20261013T120000
DTEND;TZID=America/Los_Angeles:20261013T160000
DTSTAMP:20260422T102050
CREATED:20260112T184846Z
LAST-MODIFIED:20260112T184848Z
UID:10010467-1791892800-1791907200@kalapoint.org
SUMMARY:PEO Meeting
DESCRIPTION:PEO Meeting in Fireplace room 1-3pm
URL:https://kalapoint.org/event/peo-meeting-5-2/2026-10-13/
CATEGORIES:Fireplace Room
END:VEVENT
BEGIN:VEVENT
DTSTART;TZID=America/Los_Angeles:20261015T093000
DTEND;TZID=America/Los_Angeles:20261015T120000
DTSTAMP:20260422T102050
CREATED:20251218T161529Z
LAST-MODIFIED:20251218T161529Z
UID:10010370-1792056600-1792065600@kalapoint.org
SUMMARY:Architectural Committee meeting
DESCRIPTION:In the Fireplace room
URL:https://kalapoint.org/event/architectural-committee-meeting-4/2026-10-15/
CATEGORIES:Committee Meetings,Fireplace Room
END:VEVENT
BEGIN:VEVENT
DTSTART;TZID=America/Los_Angeles:20261019T130000
DTEND;TZID=America/Los_Angeles:20261019T160000
DTSTAMP:20260422T102050
CREATED:20220218T183752Z
LAST-MODIFIED:20250519T200816Z
UID:10006694-1792414800-1792425600@kalapoint.org
SUMMARY:Mah Jong Afternoons
DESCRIPTION:In the Fireplace Room\, POC: Ann Morriseau
URL:https://kalapoint.org/event/mah-jong-afternoons/2026-10-19/
CATEGORIES:Fireplace Room
END:VEVENT
BEGIN:VEVENT
DTSTART;TZID=America/Los_Angeles:20261027T130000
DTEND;TZID=America/Los_Angeles:20261027T150000
DTSTAMP:20260422T102050
CREATED:20260119T203608Z
LAST-MODIFIED:20260119T203608Z
UID:10010542-1793106000-1793113200@kalapoint.org
SUMMARY:WACIOA Info session
DESCRIPTION:In the fireplace room with Sheryl Grant
URL:https://kalapoint.org/event/wacioa-info-session/2026-10-27/
CATEGORIES:Fireplace Room
END:VEVENT
BEGIN:VEVENT
DTSTART;TZID=America/Los_Angeles:20261028T130000
DTEND;TZID=America/Los_Angeles:20261028T163000
DTSTAMP:20260422T102050
CREATED:20241212T181428Z
LAST-MODIFIED:20250519T200841Z
UID:10004099-1793192400-1793205000@kalapoint.org
SUMMARY:SCHG Mtg
DESCRIPTION:Seattle Children’s Hospital Guild Meeting\, in Main room\, POC: Dawn Spencer: 360-344-2914 \n3-4 card tables
URL:https://kalapoint.org/event/private-event-54/2026-10-28/
CATEGORIES:Event/Activity outside KPOA,Fireplace Room,Main Room
END:VEVENT
END:VCALENDAR