BEGIN:VCALENDAR
VERSION:2.0
PRODID:-//Kala Point Owners&#039; Association - ECPv6.15.20//NONSGML v1.0//EN
CALSCALE:GREGORIAN
METHOD:PUBLISH
X-WR-CALNAME:Kala Point Owners&#039; Association
X-ORIGINAL-URL:https://kalapoint.org
X-WR-CALDESC:Events for Kala Point Owners&#039; Association
REFRESH-INTERVAL;VALUE=DURATION:PT1H
X-Robots-Tag:noindex
X-PUBLISHED-TTL:PT1H
BEGIN:VTIMEZONE
TZID:America/Los_Angeles
BEGIN:DAYLIGHT
TZOFFSETFROM:-0800
TZOFFSETTO:-0700
TZNAME:PDT
DTSTART:20240310T100000
END:DAYLIGHT
BEGIN:STANDARD
TZOFFSETFROM:-0700
TZOFFSETTO:-0800
TZNAME:PST
DTSTART:20241103T090000
END:STANDARD
BEGIN:DAYLIGHT
TZOFFSETFROM:-0800
TZOFFSETTO:-0700
TZNAME:PDT
DTSTART:20250309T100000
END:DAYLIGHT
BEGIN:STANDARD
TZOFFSETFROM:-0700
TZOFFSETTO:-0800
TZNAME:PST
DTSTART:20251102T090000
END:STANDARD
BEGIN:DAYLIGHT
TZOFFSETFROM:-0800
TZOFFSETTO:-0700
TZNAME:PDT
DTSTART:20260308T100000
END:DAYLIGHT
BEGIN:STANDARD
TZOFFSETFROM:-0700
TZOFFSETTO:-0800
TZNAME:PST
DTSTART:20261101T090000
END:STANDARD
END:VTIMEZONE
BEGIN:VEVENT
DTSTART;TZID=America/Los_Angeles:20250704T150000
DTEND;TZID=America/Los_Angeles:20250704T200000
DTSTAMP:20260419T120631
CREATED:20250411T160936Z
LAST-MODIFIED:20250411T160936Z
UID:10009613-1751641200-1751659200@kalapoint.org
SUMMARY:SP 4th of July Beach Potluck
DESCRIPTION:Contact for event: Vicky Miller \nevent from 4:30-7pm
URL:https://kalapoint.org/event/sp-4th-of-july-beach-potluck/
CATEGORIES:Gazebo,KPOA Community Event
END:VEVENT
BEGIN:VEVENT
DTSTART;TZID=America/Los_Angeles:20250707T160000
DTEND;TZID=America/Los_Angeles:20250707T190000
DTSTAMP:20260419T120631
CREATED:20250627T182644Z
LAST-MODIFIED:20250627T182644Z
UID:10009744-1751904000-1751914800@kalapoint.org
SUMMARY:Private Event
DESCRIPTION:Gazebo – McGee
URL:https://kalapoint.org/event/private-event-65/2025-07-07/
CATEGORIES:Gazebo,Private Event
END:VEVENT
BEGIN:VEVENT
DTSTART;TZID=America/Los_Angeles:20250708T100000
DTEND;TZID=America/Los_Angeles:20250708T180000
DTSTAMP:20260419T120631
CREATED:20250523T171630Z
LAST-MODIFIED:20250523T171630Z
UID:10009721-1751968800-1751997600@kalapoint.org
SUMMARY:Private event
DESCRIPTION:At the Gazebo M. Johnson
URL:https://kalapoint.org/event/private-event-61/
CATEGORIES:Gazebo
END:VEVENT
BEGIN:VEVENT
DTSTART;TZID=America/Los_Angeles:20250712T160000
DTEND;TZID=America/Los_Angeles:20250712T200000
DTSTAMP:20260419T120631
CREATED:20250616T160825Z
LAST-MODIFIED:20250616T160825Z
UID:10009735-1752336000-1752350400@kalapoint.org
SUMMARY:private Event
DESCRIPTION:Private Event Gazebo – Loubere
URL:https://kalapoint.org/event/private-event-63/
CATEGORIES:Gazebo
END:VEVENT
BEGIN:VEVENT
DTSTART;TZID=America/Los_Angeles:20250727T120000
DTEND;TZID=America/Los_Angeles:20250727T170000
DTSTAMP:20260419T120631
CREATED:20250715T161532Z
LAST-MODIFIED:20250715T161532Z
UID:10009764-1753617600-1753635600@kalapoint.org
SUMMARY:private event
DESCRIPTION:Private event @ Gazebo and picnic area 12-5pm – Scraggin/Robinson
URL:https://kalapoint.org/event/private-event-70/
CATEGORIES:Gazebo,Private Event
END:VEVENT
END:VCALENDAR