BEGIN:VCALENDAR
VERSION:2.0
PRODID:-//Kala Point Owners&#039; Association - ECPv6.15.20//NONSGML v1.0//EN
CALSCALE:GREGORIAN
METHOD:PUBLISH
X-ORIGINAL-URL:https://kalapoint.org
X-WR-CALDESC:Events for Kala Point Owners&#039; Association
REFRESH-INTERVAL;VALUE=DURATION:PT1H
X-Robots-Tag:noindex
X-PUBLISHED-TTL:PT1H
BEGIN:VTIMEZONE
TZID:America/Los_Angeles
BEGIN:DAYLIGHT
TZOFFSETFROM:-0800
TZOFFSETTO:-0700
TZNAME:PDT
DTSTART:20240310T100000
END:DAYLIGHT
BEGIN:STANDARD
TZOFFSETFROM:-0700
TZOFFSETTO:-0800
TZNAME:PST
DTSTART:20241103T090000
END:STANDARD
BEGIN:DAYLIGHT
TZOFFSETFROM:-0800
TZOFFSETTO:-0700
TZNAME:PDT
DTSTART:20250309T100000
END:DAYLIGHT
BEGIN:STANDARD
TZOFFSETFROM:-0700
TZOFFSETTO:-0800
TZNAME:PST
DTSTART:20251102T090000
END:STANDARD
BEGIN:DAYLIGHT
TZOFFSETFROM:-0800
TZOFFSETTO:-0700
TZNAME:PDT
DTSTART:20260308T100000
END:DAYLIGHT
BEGIN:STANDARD
TZOFFSETFROM:-0700
TZOFFSETTO:-0800
TZNAME:PST
DTSTART:20261101T090000
END:STANDARD
END:VTIMEZONE
BEGIN:VEVENT
DTSTART;TZID=America/Los_Angeles:20250923T080000
DTEND;TZID=America/Los_Angeles:20250923T170000
DTSTAMP:20260422T145215
CREATED:20250923T204042Z
LAST-MODIFIED:20250923T204042Z
UID:10009940-1758614400-1758646800@kalapoint.org
SUMMARY:Port Townsend Summer Band Board Retreat
DESCRIPTION:10-4pm Fireplace room Contact for event – Tracy Wirta (925) 698-6891
URL:https://kalapoint.org/event/port-townsend-summer-band-board-retreat/
CATEGORIES:Event/Activity outside KPOA,Fireplace Room
END:VEVENT
BEGIN:VEVENT
DTSTART;TZID=America/Los_Angeles:20250924T130000
DTEND;TZID=America/Los_Angeles:20250924T163000
DTSTAMP:20260422T145215
CREATED:20241212T181428Z
LAST-MODIFIED:20250519T200841Z
UID:10004086-1758718800-1758731400@kalapoint.org
SUMMARY:SCHG Mtg
DESCRIPTION:Seattle Children’s Hospital Guild Meeting\, in Main room\, POC: Dawn Spencer: 360-344-2914 \n3-4 card tables
URL:https://kalapoint.org/event/private-event-54/2025-09-24/
CATEGORIES:Event/Activity outside KPOA,Fireplace Room,Main Room
END:VEVENT
BEGIN:VEVENT
DTSTART;TZID=America/Los_Angeles:20250927T100000
DTEND;TZID=America/Los_Angeles:20250927T160000
DTSTAMP:20260422T145215
CREATED:20250923T191209Z
LAST-MODIFIED:20250923T191209Z
UID:10009939-1758967200-1758988800@kalapoint.org
SUMMARY:2025 Kala Point Art Walk
DESCRIPTION:Kala Point Art Walk will take place on Saturday\, September 27th from 10:00 a.m. to 4:00 p.m. happening throughout the community. This will not be in one specific location. \n CLICK HERE TO SEE MAP AND ARTISTS DIRECTORY  \nplease contact Cindy Griffin for more details
URL:https://kalapoint.org/event/2025-kala-point-art-walk/
CATEGORIES:Event/Activity outside KPOA,KPOA Community Event
END:VEVENT
END:VCALENDAR