BEGIN:VCALENDAR
VERSION:2.0
PRODID:-//Kala Point Owners&#039; Association - ECPv6.15.20//NONSGML v1.0//EN
CALSCALE:GREGORIAN
METHOD:PUBLISH
X-WR-CALNAME:Kala Point Owners&#039; Association
X-ORIGINAL-URL:https://kalapoint.org
X-WR-CALDESC:Events for Kala Point Owners&#039; Association
REFRESH-INTERVAL;VALUE=DURATION:PT1H
X-Robots-Tag:noindex
X-PUBLISHED-TTL:PT1H
BEGIN:VTIMEZONE
TZID:America/Los_Angeles
BEGIN:DAYLIGHT
TZOFFSETFROM:-0800
TZOFFSETTO:-0700
TZNAME:PDT
DTSTART:20220313T100000
END:DAYLIGHT
BEGIN:STANDARD
TZOFFSETFROM:-0700
TZOFFSETTO:-0800
TZNAME:PST
DTSTART:20221106T090000
END:STANDARD
BEGIN:DAYLIGHT
TZOFFSETFROM:-0800
TZOFFSETTO:-0700
TZNAME:PDT
DTSTART:20230312T100000
END:DAYLIGHT
BEGIN:STANDARD
TZOFFSETFROM:-0700
TZOFFSETTO:-0800
TZNAME:PST
DTSTART:20231105T090000
END:STANDARD
BEGIN:DAYLIGHT
TZOFFSETFROM:-0800
TZOFFSETTO:-0700
TZNAME:PDT
DTSTART:20240310T100000
END:DAYLIGHT
BEGIN:STANDARD
TZOFFSETFROM:-0700
TZOFFSETTO:-0800
TZNAME:PST
DTSTART:20241103T090000
END:STANDARD
END:VTIMEZONE
BEGIN:VEVENT
DTSTART;VALUE=DATE:20230111
DTEND;VALUE=DATE:20230112
DTSTAMP:20260420T115849
CREATED:20230111T212923Z
LAST-MODIFIED:20230111T212923Z
UID:10001921-1673395200-1673481599@kalapoint.org
SUMMARY:Private Event
DESCRIPTION:A member will be having a private event in the fireplace room. This is an all day event.
URL:https://kalapoint.org/event/private-event-8/
CATEGORIES:Fireplace Room,Private Event
END:VEVENT
BEGIN:VEVENT
DTSTART;TZID=America/Los_Angeles:20230128T133000
DTEND;TZID=America/Los_Angeles:20230128T170000
DTSTAMP:20260420T115849
CREATED:20230102T190858Z
LAST-MODIFIED:20230102T190858Z
UID:10002942-1674912600-1674925200@kalapoint.org
SUMMARY:Private Event
DESCRIPTION:Private Event 2 pm-5pm \n20 people set up tables in a U shape 2 tables for food along the pool side windows
URL:https://kalapoint.org/event/private-event-7/
CATEGORIES:Private Event
END:VEVENT
END:VCALENDAR