BEGIN:VCALENDAR
VERSION:2.0
PRODID:-//Kala Point Owners&#039; Association - ECPv6.15.20//NONSGML v1.0//EN
CALSCALE:GREGORIAN
METHOD:PUBLISH
X-ORIGINAL-URL:https://kalapoint.org
X-WR-CALDESC:Events for Kala Point Owners&#039; Association
REFRESH-INTERVAL;VALUE=DURATION:PT1H
X-Robots-Tag:noindex
X-PUBLISHED-TTL:PT1H
BEGIN:VTIMEZONE
TZID:America/Los_Angeles
BEGIN:DAYLIGHT
TZOFFSETFROM:-0800
TZOFFSETTO:-0700
TZNAME:PDT
DTSTART:20240310T100000
END:DAYLIGHT
BEGIN:STANDARD
TZOFFSETFROM:-0700
TZOFFSETTO:-0800
TZNAME:PST
DTSTART:20241103T090000
END:STANDARD
BEGIN:DAYLIGHT
TZOFFSETFROM:-0800
TZOFFSETTO:-0700
TZNAME:PDT
DTSTART:20250309T100000
END:DAYLIGHT
BEGIN:STANDARD
TZOFFSETFROM:-0700
TZOFFSETTO:-0800
TZNAME:PST
DTSTART:20251102T090000
END:STANDARD
BEGIN:DAYLIGHT
TZOFFSETFROM:-0800
TZOFFSETTO:-0700
TZNAME:PDT
DTSTART:20260308T100000
END:DAYLIGHT
BEGIN:STANDARD
TZOFFSETFROM:-0700
TZOFFSETTO:-0800
TZNAME:PST
DTSTART:20261101T090000
END:STANDARD
END:VTIMEZONE
BEGIN:VEVENT
DTSTART;TZID=America/Los_Angeles:20251010T150000
DTEND;TZID=America/Los_Angeles:20251010T203000
DTSTAMP:20260423T224257
CREATED:20250911T195647Z
LAST-MODIFIED:20250911T195647Z
UID:10009932-1760108400-1760128200@kalapoint.org
SUMMARY:Wedding rehearsal dinner
DESCRIPTION:Private Event D. Holme set up to follow 22-25 ppl in the main room
URL:https://kalapoint.org/event/wedding-rehearsal-dinner/
CATEGORIES:Main Room,Private Event
END:VEVENT
BEGIN:VEVENT
DTSTART;TZID=America/Los_Angeles:20251017T150000
DTEND;TZID=America/Los_Angeles:20251017T200000
DTSTAMP:20260423T224257
CREATED:20250915T161447Z
LAST-MODIFIED:20250915T161447Z
UID:10009933-1760713200-1760731200@kalapoint.org
SUMMARY:Private event
DESCRIPTION:Fire place and main room 3-8pm /Force
URL:https://kalapoint.org/event/private-event-76/
CATEGORIES:Fireplace Room,Main Room,Private Event
END:VEVENT
END:VCALENDAR