BEGIN:VCALENDAR
VERSION:2.0
PRODID:-//Kala Point Owners&#039; Association - ECPv6.15.20//NONSGML v1.0//EN
CALSCALE:GREGORIAN
METHOD:PUBLISH
X-WR-CALNAME:Kala Point Owners&#039; Association
X-ORIGINAL-URL:https://kalapoint.org
X-WR-CALDESC:Events for Kala Point Owners&#039; Association
REFRESH-INTERVAL;VALUE=DURATION:PT1H
X-Robots-Tag:noindex
X-PUBLISHED-TTL:PT1H
BEGIN:VTIMEZONE
TZID:America/Los_Angeles
BEGIN:DAYLIGHT
TZOFFSETFROM:-0800
TZOFFSETTO:-0700
TZNAME:PDT
DTSTART:20240310T100000
END:DAYLIGHT
BEGIN:STANDARD
TZOFFSETFROM:-0700
TZOFFSETTO:-0800
TZNAME:PST
DTSTART:20241103T090000
END:STANDARD
BEGIN:DAYLIGHT
TZOFFSETFROM:-0800
TZOFFSETTO:-0700
TZNAME:PDT
DTSTART:20250309T100000
END:DAYLIGHT
BEGIN:STANDARD
TZOFFSETFROM:-0700
TZOFFSETTO:-0800
TZNAME:PST
DTSTART:20251102T090000
END:STANDARD
BEGIN:DAYLIGHT
TZOFFSETFROM:-0800
TZOFFSETTO:-0700
TZNAME:PDT
DTSTART:20260308T100000
END:DAYLIGHT
BEGIN:STANDARD
TZOFFSETFROM:-0700
TZOFFSETTO:-0800
TZNAME:PST
DTSTART:20261101T090000
END:STANDARD
END:VTIMEZONE
BEGIN:VEVENT
DTSTART;TZID=America/Los_Angeles:20251222T090000
DTEND;TZID=America/Los_Angeles:20251222T130000
DTSTAMP:20260423T001831
CREATED:20251229T145809Z
LAST-MODIFIED:20251229T150059Z
UID:10010439-1766394000-1766408400@kalapoint.org
SUMMARY:Clubhouse Reservation: Sunday\, February 22\, 2026 for Bird Talk
DESCRIPTION:hosted by Beach Stewards/Social Plus
URL:https://kalapoint.org/event/clubhouse-reservation-sunday-february-22-2026-for-bird-talk/
CATEGORIES:Main Room,Private Event
END:VEVENT
END:VCALENDAR