BEGIN:VCALENDAR
VERSION:2.0
PRODID:-//Kala Point Owners&#039; Association - ECPv6.15.20//NONSGML v1.0//EN
CALSCALE:GREGORIAN
METHOD:PUBLISH
X-WR-CALNAME:Kala Point Owners&#039; Association
X-ORIGINAL-URL:https://kalapoint.org
X-WR-CALDESC:Events for Kala Point Owners&#039; Association
REFRESH-INTERVAL;VALUE=DURATION:PT1H
X-Robots-Tag:noindex
X-PUBLISHED-TTL:PT1H
BEGIN:VTIMEZONE
TZID:UTC
BEGIN:STANDARD
TZOFFSETFROM:+0000
TZOFFSETTO:+0000
TZNAME:UTC
DTSTART:20210101T000000
END:STANDARD
END:VTIMEZONE
BEGIN:VEVENT
DTSTART;TZID=UTC:20220804T093000
DTEND;TZID=UTC:20220804T113000
DTSTAMP:20260423T165703
CREATED:20220112T040457Z
LAST-MODIFIED:20220829T173918Z
UID:10002382-1659605400-1659612600@kalapoint.org
SUMMARY:EPC Meeting
DESCRIPTION:via Zoom & Fireplace Room
URL:https://kalapoint.org/event/epc-meeting/2022-08-04/
CATEGORIES:Fireplace Room,Zoom
END:VEVENT
BEGIN:VEVENT
DTSTART;TZID=UTC:20220825T093000
DTEND;TZID=UTC:20220825T110000
DTSTAMP:20260423T165703
CREATED:20220112T044918Z
LAST-MODIFIED:20220829T175856Z
UID:10002168-1661419800-1661425200@kalapoint.org
SUMMARY:Grounds Committee
DESCRIPTION:via Zoom
URL:https://kalapoint.org/event/grounds-committee-2/2022-08-25/
CATEGORIES:Committee Meetings,Zoom
END:VEVENT
END:VCALENDAR