BEGIN:VCALENDAR
VERSION:2.0
PRODID:-//Kala Point Owners&#039; Association - ECPv6.15.20//NONSGML v1.0//EN
CALSCALE:GREGORIAN
METHOD:PUBLISH
X-ORIGINAL-URL:https://kalapoint.org
X-WR-CALDESC:Events for Kala Point Owners&#039; Association
REFRESH-INTERVAL;VALUE=DURATION:PT1H
X-Robots-Tag:noindex
X-PUBLISHED-TTL:PT1H
BEGIN:VTIMEZONE
TZID:UTC
BEGIN:STANDARD
TZOFFSETFROM:+0000
TZOFFSETTO:+0000
TZNAME:UTC
DTSTART:20210101T000000
END:STANDARD
END:VTIMEZONE
BEGIN:VTIMEZONE
TZID:America/Los_Angeles
BEGIN:DAYLIGHT
TZOFFSETFROM:-0800
TZOFFSETTO:-0700
TZNAME:PDT
DTSTART:20210314T100000
END:DAYLIGHT
BEGIN:STANDARD
TZOFFSETFROM:-0700
TZOFFSETTO:-0800
TZNAME:PST
DTSTART:20211107T090000
END:STANDARD
BEGIN:DAYLIGHT
TZOFFSETFROM:-0800
TZOFFSETTO:-0700
TZNAME:PDT
DTSTART:20220313T100000
END:DAYLIGHT
BEGIN:STANDARD
TZOFFSETFROM:-0700
TZOFFSETTO:-0800
TZNAME:PST
DTSTART:20221106T090000
END:STANDARD
BEGIN:DAYLIGHT
TZOFFSETFROM:-0800
TZOFFSETTO:-0700
TZNAME:PDT
DTSTART:20230312T100000
END:DAYLIGHT
BEGIN:STANDARD
TZOFFSETFROM:-0700
TZOFFSETTO:-0800
TZNAME:PST
DTSTART:20231105T090000
END:STANDARD
END:VTIMEZONE
BEGIN:VEVENT
DTSTART;TZID=UTC:20220901T093000
DTEND;TZID=UTC:20220901T113000
DTSTAMP:20260422T150058
CREATED:20220112T040457Z
LAST-MODIFIED:20220829T173918Z
UID:10002383-1662024600-1662031800@kalapoint.org
SUMMARY:EPC Meeting
DESCRIPTION:via Zoom & Fireplace Room
URL:https://kalapoint.org/event/epc-meeting/2022-09-01/
CATEGORIES:Fireplace Room,Zoom
END:VEVENT
BEGIN:VEVENT
DTSTART;TZID=UTC:20220907T090000
DTEND;TZID=UTC:20220907T110000
DTSTAMP:20260422T150058
CREATED:20211213T200903Z
LAST-MODIFIED:20220829T182918Z
UID:10001882-1662541200-1662548400@kalapoint.org
SUMMARY:Finance Committee
DESCRIPTION:Via Zoom
URL:https://kalapoint.org/event/finance-committee-2022-09-06/
LOCATION:Via Zoom
CATEGORIES:Zoom
END:VEVENT
BEGIN:VEVENT
DTSTART;TZID=America/Los_Angeles:20220907T113000
DTEND;TZID=America/Los_Angeles:20220907T130000
DTSTAMP:20260422T150058
CREATED:20220503T160411Z
LAST-MODIFIED:20220829T172722Z
UID:10001673-1662550200-1662555600@kalapoint.org
SUMMARY:Strategic Planning Committee
DESCRIPTION:on Zoom
URL:https://kalapoint.org/event/strategic-planning-committee-2022-09-06/
CATEGORIES:Committee Meetings,Zoom
END:VEVENT
BEGIN:VEVENT
DTSTART;TZID=UTC:20220922T093000
DTEND;TZID=UTC:20220922T110000
DTSTAMP:20260422T150058
CREATED:20220112T044918Z
LAST-MODIFIED:20220829T175856Z
UID:10002169-1663839000-1663844400@kalapoint.org
SUMMARY:Grounds Committee
DESCRIPTION:via Zoom
URL:https://kalapoint.org/event/grounds-committee-2/2022-09-22/
CATEGORIES:Committee Meetings,Zoom
END:VEVENT
END:VCALENDAR