BEGIN:VCALENDAR
VERSION:2.0
PRODID:-//Kala Point Owners&#039; Association - ECPv6.15.20//NONSGML v1.0//EN
CALSCALE:GREGORIAN
METHOD:PUBLISH
X-WR-CALNAME:Kala Point Owners&#039; Association
X-ORIGINAL-URL:https://kalapoint.org
X-WR-CALDESC:Events for Kala Point Owners&#039; Association
REFRESH-INTERVAL;VALUE=DURATION:PT1H
X-Robots-Tag:noindex
X-PUBLISHED-TTL:PT1H
BEGIN:VTIMEZONE
TZID:America/Los_Angeles
BEGIN:DAYLIGHT
TZOFFSETFROM:-0800
TZOFFSETTO:-0700
TZNAME:PDT
DTSTART:20240310T100000
END:DAYLIGHT
BEGIN:STANDARD
TZOFFSETFROM:-0700
TZOFFSETTO:-0800
TZNAME:PST
DTSTART:20241103T090000
END:STANDARD
BEGIN:DAYLIGHT
TZOFFSETFROM:-0800
TZOFFSETTO:-0700
TZNAME:PDT
DTSTART:20250309T100000
END:DAYLIGHT
BEGIN:STANDARD
TZOFFSETFROM:-0700
TZOFFSETTO:-0800
TZNAME:PST
DTSTART:20251102T090000
END:STANDARD
BEGIN:DAYLIGHT
TZOFFSETFROM:-0800
TZOFFSETTO:-0700
TZNAME:PDT
DTSTART:20260308T100000
END:DAYLIGHT
BEGIN:STANDARD
TZOFFSETFROM:-0700
TZOFFSETTO:-0800
TZNAME:PST
DTSTART:20261101T090000
END:STANDARD
END:VTIMEZONE
BEGIN:VTIMEZONE
TZID:UTC
BEGIN:STANDARD
TZOFFSETFROM:+0000
TZOFFSETTO:+0000
TZNAME:UTC
DTSTART:20240101T000000
END:STANDARD
END:VTIMEZONE
BEGIN:VEVENT
DTSTART;TZID=America/Los_Angeles:20250428T090000
DTEND;TZID=America/Los_Angeles:20250428T100000
DTSTAMP:20260419T153601
CREATED:20221220T175119Z
LAST-MODIFIED:20250411T152202Z
UID:10004895-1745830800-1745834400@kalapoint.org
SUMMARY:Women's Exercise
DESCRIPTION:Women’s Exercise group w/ AJ Laverty (class is full)
URL:https://kalapoint.org/event/exercise-group-w-aj-laverty/2025-04-28/
CATEGORIES:Clubhouse Events
END:VEVENT
BEGIN:VEVENT
DTSTART;TZID=America/Los_Angeles:20250428T103000
DTEND;TZID=America/Los_Angeles:20250428T160000
DTSTAMP:20260419T153601
CREATED:20220919T205033Z
LAST-MODIFIED:20250519T194926Z
UID:10005399-1745836200-1745856000@kalapoint.org
SUMMARY:Bridge Group
DESCRIPTION:Bridge in the Clubhouse Main Room
URL:https://kalapoint.org/event/bridge-group/2025-04-28/
CATEGORIES:Clubhouse Events,Main Room
END:VEVENT
BEGIN:VEVENT
DTSTART;TZID=UTC:20250429T090000
DTEND;TZID=UTC:20250429T100000
DTSTAMP:20260419T153601
CREATED:20220112T001223Z
LAST-MODIFIED:20250519T194945Z
UID:10006149-1745917200-1745920800@kalapoint.org
SUMMARY:Tai Chat
DESCRIPTION:Clubhouse Main Room
URL:https://kalapoint.org/event/tai-chat/2025-04-29/
CATEGORIES:Main Room
END:VEVENT
BEGIN:VEVENT
DTSTART;TZID=America/Los_Angeles:20250501T093000
DTEND;TZID=America/Los_Angeles:20250501T113000
DTSTAMP:20260419T153601
CREATED:20230220T212712Z
LAST-MODIFIED:20250519T200158Z
UID:10003912-1746091800-1746099000@kalapoint.org
SUMMARY:Emergency Preparedness Committee Monthly Meeting
DESCRIPTION:Emergency Preparedness Committee Monthly Meeting in the Fireplace room & Zoom
URL:https://kalapoint.org/event/emergency-preparedness-committee-monthly-meeting/2025-05-01/
CATEGORIES:Fireplace Room
END:VEVENT
BEGIN:VEVENT
DTSTART;TZID=America/Los_Angeles:20250501T130000
DTEND;TZID=America/Los_Angeles:20250501T150000
DTSTAMP:20260419T153601
CREATED:20250428T193937Z
LAST-MODIFIED:20250519T200207Z
UID:10008143-1746104400-1746111600@kalapoint.org
SUMMARY:Elections Committee Meeting
DESCRIPTION:In the Admin conference Room
URL:https://kalapoint.org/event/elections-committee-meeting-9-2-2/
CATEGORIES:Admin Conference room
END:VEVENT
BEGIN:VEVENT
DTSTART;TZID=America/Los_Angeles:20250502T093000
DTEND;TZID=America/Los_Angeles:20250502T110000
DTSTAMP:20260419T153601
CREATED:20231129T201135Z
LAST-MODIFIED:20250519T200218Z
UID:10006611-1746178200-1746183600@kalapoint.org
SUMMARY:EPC First Aid Meeting
DESCRIPTION:EPC First Aid monthly Meeting for more info contact Terry Rose at 360-385-1940
URL:https://kalapoint.org/event/epc-first-aid-meeting-3/2025-05-02/
CATEGORIES:Fireplace Room
END:VEVENT
BEGIN:VEVENT
DTSTART;TZID=America/Los_Angeles:20250502T100000
DTEND;TZID=America/Los_Angeles:20250502T113000
DTSTAMP:20260419T153601
CREATED:20250407T211922Z
LAST-MODIFIED:20250407T211922Z
UID:10009532-1746180000-1746185400@kalapoint.org
SUMMARY:EPC meeting
DESCRIPTION:EPC meeting in main room
URL:https://kalapoint.org/event/epc-meeting-12/
CATEGORIES:Main Room
END:VEVENT
BEGIN:VEVENT
DTSTART;TZID=America/Los_Angeles:20250502T130000
DTEND;TZID=America/Los_Angeles:20250502T140000
DTSTAMP:20260419T153601
CREATED:20240619T152050Z
LAST-MODIFIED:20250519T195237Z
UID:10007894-1746190800-1746194400@kalapoint.org
SUMMARY:Yoga with Charla
DESCRIPTION:In the main room at the clubhouse
URL:https://kalapoint.org/event/yoga-with-charla/2025-05-02/
CATEGORIES:Main Room
END:VEVENT
BEGIN:VEVENT
DTSTART;TZID=America/Los_Angeles:20250505T130000
DTEND;TZID=America/Los_Angeles:20250505T160000
DTSTAMP:20260419T153601
CREATED:20230203T143141Z
LAST-MODIFIED:20250519T200230Z
UID:10009269-1746450000-1746460800@kalapoint.org
SUMMARY:Mah Jong Afternoons
DESCRIPTION:In the Fireplace Room\, POC: Ann Morriseau
URL:https://kalapoint.org/event/mah-jong-afternoons-2/2025-05-05/
CATEGORIES:Fireplace Room
END:VEVENT
BEGIN:VEVENT
DTSTART;TZID=America/Los_Angeles:20250506T090000
DTEND;TZID=America/Los_Angeles:20250506T110000
DTSTAMP:20260419T153601
CREATED:20240703T185533Z
LAST-MODIFIED:20250519T200243Z
UID:10004037-1746522000-1746529200@kalapoint.org
SUMMARY:Finance Meeting
DESCRIPTION:In the Fireplace Room
URL:https://kalapoint.org/event/finance-committee-meeting-2-4-2/2025-05-06/
CATEGORIES:Fireplace Room
END:VEVENT
BEGIN:VEVENT
DTSTART;TZID=America/Los_Angeles:20250508T090000
DTEND;TZID=America/Los_Angeles:20250508T110000
DTSTAMP:20260419T153601
CREATED:20250407T203158Z
LAST-MODIFIED:20250410T172307Z
UID:10009537-1746694800-1746702000@kalapoint.org
SUMMARY:Tree Committee
DESCRIPTION:In the Admin conference room
URL:https://kalapoint.org/event/tree-committee-2/2025-05-08/
CATEGORIES:Admin Conference room
END:VEVENT
BEGIN:VEVENT
DTSTART;TZID=America/Los_Angeles:20250508T110000
DTEND;TZID=America/Los_Angeles:20250508T130000
DTSTAMP:20260419T153601
CREATED:20241202T154303Z
LAST-MODIFIED:20250519T201057Z
UID:10008580-1746702000-1746709200@kalapoint.org
SUMMARY:Native Bee habitat Walking Tour
DESCRIPTION:Part 2 of the 2 part Spring series \nNative bee habitat walking tour of beach & group gathering at the gazebo \nWA Native Bee Society & Master Gardener Group in coordination with Social Plus for educational purposes \n11AM -1PM   (2 hours)
URL:https://kalapoint.org/event/native-bee-habitat-walking-tour/
CATEGORIES:Gazebo
END:VEVENT
BEGIN:VEVENT
DTSTART;TZID=America/Los_Angeles:20250508T130000
DTEND;TZID=America/Los_Angeles:20250508T150000
DTSTAMP:20260419T153601
CREATED:20250128T201421Z
LAST-MODIFIED:20250519T201109Z
UID:10009043-1746709200-1746716400@kalapoint.org
SUMMARY:Garden Club
DESCRIPTION:in the main room  3 long tables  8 chairs Contact Virginia Baker
URL:https://kalapoint.org/event/garden-club-11/2025-05-08/
CATEGORIES:Main Room
END:VEVENT
BEGIN:VEVENT
DTSTART;TZID=America/Los_Angeles:20250509T100000
DTEND;TZID=America/Los_Angeles:20250509T120000
DTSTAMP:20260419T153601
CREATED:20250506T185445Z
LAST-MODIFIED:20250506T185445Z
UID:10009623-1746784800-1746792000@kalapoint.org
SUMMARY:BMAC meeting
DESCRIPTION:In the admin conference room
URL:https://kalapoint.org/event/bmac-meeting-5/
CATEGORIES:Admin Conference room
END:VEVENT
BEGIN:VEVENT
DTSTART;TZID=America/Los_Angeles:20250512T093000
DTEND;TZID=America/Los_Angeles:20250512T110000
DTSTAMP:20260419T153601
CREATED:20250310T153725Z
LAST-MODIFIED:20250408T204747Z
UID:10009534-1747042200-1747047600@kalapoint.org
SUMMARY:Personnel Committee Meeting
DESCRIPTION:9:30-11:30am Admin Conference room Reserved by MB
URL:https://kalapoint.org/event/personnel-committee-meeting-3/2025-05-12/
CATEGORIES:Admin Conference room
END:VEVENT
BEGIN:VEVENT
DTSTART;TZID=America/Los_Angeles:20250512T100000
DTEND;TZID=America/Los_Angeles:20250512T120000
DTSTAMP:20260419T153601
CREATED:20241004T160145Z
LAST-MODIFIED:20250519T200731Z
UID:10008432-1747044000-1747051200@kalapoint.org
SUMMARY:KPOA Book Club
DESCRIPTION:10am-12pm \nBinds – Book Group – Meets on the 2nd Monday of each month (except December\, June\, July & August) in the Fire Place room at the Clubhouse. Happy to discuss any book you have read or are interested in. Our love of reading has made for fine friendships and lively meetings! – NM
URL:https://kalapoint.org/event/kpoa-book-club-3/2025-05-12/
CATEGORIES:Fireplace Room
END:VEVENT
BEGIN:VEVENT
DTSTART;TZID=America/Los_Angeles:20250512T130000
DTEND;TZID=America/Los_Angeles:20250512T143000
DTSTAMP:20260419T153601
CREATED:20250506T214911Z
LAST-MODIFIED:20250506T214911Z
UID:10009624-1747054800-1747060200@kalapoint.org
SUMMARY:Elections Meeting
DESCRIPTION:In the fireplace room
URL:https://kalapoint.org/event/elections-meeting/
CATEGORIES:Fireplace Room
END:VEVENT
BEGIN:VEVENT
DTSTART;TZID=America/Los_Angeles:20250512T133000
DTEND;TZID=America/Los_Angeles:20250512T143000
DTSTAMP:20260419T153601
CREATED:20230615T151324Z
LAST-MODIFIED:20250813T211156Z
UID:10003784-1747056600-1747060200@kalapoint.org
SUMMARY:Publications Committee Meeting
DESCRIPTION:The Publications Meeting will be held in the administrative conference room.
URL:https://kalapoint.org/event/publications-committee-meeting-3-2/2025-05-12/
CATEGORIES:Admin Conference room,Committee Meetings
END:VEVENT
BEGIN:VEVENT
DTSTART;TZID=America/Los_Angeles:20250513T003000
DTEND;TZID=America/Los_Angeles:20250513T160000
DTSTAMP:20260419T153601
CREATED:20250203T195254Z
LAST-MODIFIED:20250519T200747Z
UID:10009103-1747096200-1747152000@kalapoint.org
SUMMARY:PEO Meeting
DESCRIPTION:PEO Meeting in Fireplace room 1-3pm
URL:https://kalapoint.org/event/peo-meeting-5/2025-05-13/
CATEGORIES:Fireplace Room
END:VEVENT
BEGIN:VEVENT
DTSTART;TZID=America/Los_Angeles:20250513T150000
DTEND;TZID=America/Los_Angeles:20250513T170000
DTSTAMP:20260419T153601
CREATED:20230711T162316Z
LAST-MODIFIED:20250519T195252Z
UID:10003864-1747148400-1747155600@kalapoint.org
SUMMARY:Board of Directors Meeting
DESCRIPTION:Board of Directors Meeting at 3pm in the Main Room
URL:https://kalapoint.org/event/board-of-directors-meeting/2025-05-13/
CATEGORIES:KPOA Board Meeting
END:VEVENT
BEGIN:VEVENT
DTSTART;TZID=America/Los_Angeles:20250514T093000
DTEND;TZID=America/Los_Angeles:20250514T113000
DTSTAMP:20260419T153601
CREATED:20250505T195433Z
LAST-MODIFIED:20250505T195433Z
UID:10009621-1747215000-1747222200@kalapoint.org
SUMMARY:ICC review
DESCRIPTION:ICC review
URL:https://kalapoint.org/event/icc-review/
CATEGORIES:Admin Conference room
END:VEVENT
BEGIN:VEVENT
DTSTART;TZID=UTC:20250515T093000
DTEND;TZID=UTC:20250515T120000
DTSTAMP:20260419T153601
CREATED:20240207T153628Z
LAST-MODIFIED:20250519T195305Z
UID:10007182-1747301400-1747310400@kalapoint.org
SUMMARY:Architectural Meeting
DESCRIPTION:In the Clubhouse Fireplace Room
URL:https://kalapoint.org/event/architectural-meeting-2022-01-20-3-2/2025-05-15/
LOCATION:Clubhouse Fireplace Room\, 1760 Kala Point Drive\, Port Townsend\, WA\, 98368\, United States
CATEGORIES:Committee Meetings,Fireplace Room
END:VEVENT
BEGIN:VEVENT
DTSTART;TZID=America/Los_Angeles:20250515T173000
DTEND;TZID=America/Los_Angeles:20250515T200000
DTSTAMP:20260419T153601
CREATED:20250407T135048Z
LAST-MODIFIED:20250407T140243Z
UID:10009471-1747330200-1747339200@kalapoint.org
SUMMARY:Firewise Safety sponsored by EPC
DESCRIPTION:Firewise Safety sponsored by EPC in the Clubhouse Main room Mark Miller 360-774-5005 (set up25-50 ppl)
URL:https://kalapoint.org/event/firewise-safety-sponsored-by-epc/
CATEGORIES:KPOA Community Event,Main Room
END:VEVENT
BEGIN:VEVENT
DTSTART;TZID=America/Los_Angeles:20250516T173000
DTEND;TZID=America/Los_Angeles:20250516T193000
DTSTAMP:20260419T153601
CREATED:20240410T161803Z
LAST-MODIFIED:20240410T161803Z
UID:10007266-1747416600-1747423800@kalapoint.org
SUMMARY:Newcomers Social – All Welcome
DESCRIPTION:The Social Plus committee will be hosting a Newcomers social at the clubhouse. \nThis event is open to all owners giving them an opportunity to meet some of the newcomers.
URL:https://kalapoint.org/event/newcomers-social-all-welcome-3/
CATEGORIES:KPOA Community Event,Main Room
END:VEVENT
BEGIN:VEVENT
DTSTART;TZID=America/Los_Angeles:20250522T093000
DTEND;TZID=America/Los_Angeles:20250522T233000
DTSTAMP:20260419T153601
CREATED:20250121T202112Z
LAST-MODIFIED:20250519T200825Z
UID:10008981-1747906200-1747956600@kalapoint.org
SUMMARY:Grounds Committee Meeting
DESCRIPTION:Grounds Committee Meeting in the Admin Conference Room
URL:https://kalapoint.org/event/grounds-committee-meeting-5/2025-05-22/
CATEGORIES:Admin Conference room
END:VEVENT
BEGIN:VEVENT
DTSTART;TZID=America/Los_Angeles:20250524T130000
DTEND;TZID=America/Los_Angeles:20250524T170000
DTSTAMP:20260419T153601
CREATED:20250408T185231Z
LAST-MODIFIED:20250408T185231Z
UID:10009533-1748091600-1748106000@kalapoint.org
SUMMARY:Beading Bee event
DESCRIPTION:In the main room at the clubhouse. Event limited to 9 participants Contact Lisa for more info: Lschono@gmail.com set up 10 ppl to follow
URL:https://kalapoint.org/event/beading-bee-event/
CATEGORIES:Main Room
END:VEVENT
BEGIN:VEVENT
DTSTART;TZID=America/Los_Angeles:20250527T110000
DTEND;TZID=America/Los_Angeles:20250527T140000
DTSTAMP:20260419T153601
CREATED:20250515T160319Z
LAST-MODIFIED:20250527T173251Z
UID:10009627-1748343600-1748354400@kalapoint.org
SUMMARY:Private event
DESCRIPTION:In the Main room & Fireplace room V Baker
URL:https://kalapoint.org/event/private-event-60/
CATEGORIES:Fireplace Room,Main Room
END:VEVENT
BEGIN:VEVENT
DTSTART;TZID=America/Los_Angeles:20250528T130000
DTEND;TZID=America/Los_Angeles:20250528T163000
DTSTAMP:20260419T153601
CREATED:20241212T181428Z
LAST-MODIFIED:20250519T200841Z
UID:10004082-1748437200-1748449800@kalapoint.org
SUMMARY:SCHG Mtg
DESCRIPTION:Seattle Children’s Hospital Guild Meeting\, in Main room\, POC: Dawn Spencer: 360-344-2914 \n3-4 card tables
URL:https://kalapoint.org/event/private-event-54/2025-05-28/
CATEGORIES:Event/Activity outside KPOA,Fireplace Room,Main Room
END:VEVENT
BEGIN:VEVENT
DTSTART;TZID=America/Los_Angeles:20250528T140000
DTEND;TZID=America/Los_Angeles:20250528T153000
DTSTAMP:20260419T153601
CREATED:20250521T164720Z
LAST-MODIFIED:20250521T164720Z
UID:10009720-1748440800-1748446200@kalapoint.org
SUMMARY:Document review
DESCRIPTION:In the Fireplace room M. Berry
URL:https://kalapoint.org/event/document-review-3/
CATEGORIES:Fireplace Room
END:VEVENT
BEGIN:VEVENT
DTSTART;TZID=America/Los_Angeles:20250529T100000
DTEND;TZID=America/Los_Angeles:20250529T113000
DTSTAMP:20260419T153601
CREATED:20250515T212613Z
LAST-MODIFIED:20250516T184823Z
UID:10009633-1748512800-1748518200@kalapoint.org
SUMMARY:Garden Club
DESCRIPTION:In the Fireplace room Marilyn Berry
URL:https://kalapoint.org/event/garden-club-13/
CATEGORIES:Fireplace Room
END:VEVENT
END:VCALENDAR