BEGIN:VCALENDAR
VERSION:2.0
PRODID:-//Kala Point Owners&#039; Association - ECPv6.15.20//NONSGML v1.0//EN
CALSCALE:GREGORIAN
METHOD:PUBLISH
X-ORIGINAL-URL:https://kalapoint.org
X-WR-CALDESC:Events for Kala Point Owners&#039; Association
REFRESH-INTERVAL;VALUE=DURATION:PT1H
X-Robots-Tag:noindex
X-PUBLISHED-TTL:PT1H
BEGIN:VTIMEZONE
TZID:America/Los_Angeles
BEGIN:DAYLIGHT
TZOFFSETFROM:-0800
TZOFFSETTO:-0700
TZNAME:PDT
DTSTART:20290311T100000
END:DAYLIGHT
BEGIN:STANDARD
TZOFFSETFROM:-0700
TZOFFSETTO:-0800
TZNAME:PST
DTSTART:20291104T090000
END:STANDARD
BEGIN:DAYLIGHT
TZOFFSETFROM:-0800
TZOFFSETTO:-0700
TZNAME:PDT
DTSTART:20300310T100000
END:DAYLIGHT
BEGIN:STANDARD
TZOFFSETFROM:-0700
TZOFFSETTO:-0800
TZNAME:PST
DTSTART:20301103T090000
END:STANDARD
BEGIN:DAYLIGHT
TZOFFSETFROM:-0800
TZOFFSETTO:-0700
TZNAME:PDT
DTSTART:20310309T100000
END:DAYLIGHT
BEGIN:STANDARD
TZOFFSETFROM:-0700
TZOFFSETTO:-0800
TZNAME:PST
DTSTART:20311102T090000
END:STANDARD
BEGIN:DAYLIGHT
TZOFFSETFROM:-0800
TZOFFSETTO:-0700
TZNAME:PDT
DTSTART:20320314T100000
END:DAYLIGHT
BEGIN:STANDARD
TZOFFSETFROM:-0700
TZOFFSETTO:-0800
TZNAME:PST
DTSTART:20321107T090000
END:STANDARD
END:VTIMEZONE
BEGIN:VTIMEZONE
TZID:UTC
BEGIN:STANDARD
TZOFFSETFROM:+0000
TZOFFSETTO:+0000
TZNAME:UTC
DTSTART:20290101T000000
END:STANDARD
END:VTIMEZONE
BEGIN:VEVENT
DTSTART;TZID=America/Los_Angeles:20300916T090000
DTEND;TZID=America/Los_Angeles:20300916T100000
DTSTAMP:20260424T003623
CREATED:20250821T170119Z
LAST-MODIFIED:20250821T170120Z
UID:10010315-1915779600-1915783200@kalapoint.org
SUMMARY:Women's Exercise
DESCRIPTION:Women’s Exercise group w/ AJ Laverty (class is full)
URL:https://kalapoint.org/event/exercise-group-w-aj-laverty-4/2030-09-16/
CATEGORIES:Main Room
END:VEVENT
BEGIN:VEVENT
DTSTART;TZID=UTC:20300917T090000
DTEND;TZID=UTC:20300917T100000
DTSTAMP:20260424T003623
CREATED:20220112T001223Z
LAST-MODIFIED:20250519T194945Z
UID:10010253-1915866000-1915869600@kalapoint.org
SUMMARY:Tai Chat
DESCRIPTION:Clubhouse Main Room
URL:https://kalapoint.org/event/tai-chat/2030-09-17/
CATEGORIES:Main Room
END:VEVENT
BEGIN:VEVENT
DTSTART;TZID=America/Los_Angeles:20300919T093000
DTEND;TZID=America/Los_Angeles:20300919T120000
DTSTAMP:20260424T003623
CREATED:20251218T161529Z
LAST-MODIFIED:20251218T161529Z
UID:10010417-1916040600-1916049600@kalapoint.org
SUMMARY:Architectural Committee meeting
DESCRIPTION:In the Fireplace room
URL:https://kalapoint.org/event/architectural-committee-meeting-4/2030-09-19/
CATEGORIES:Committee Meetings,Fireplace Room
END:VEVENT
BEGIN:VEVENT
DTSTART;TZID=America/Los_Angeles:20300924T130000
DTEND;TZID=America/Los_Angeles:20300924T150000
DTSTAMP:20260424T003623
CREATED:20260119T203608Z
LAST-MODIFIED:20260119T203608Z
UID:10010589-1916485200-1916492400@kalapoint.org
SUMMARY:WACIOA Info session
DESCRIPTION:In the fireplace room with Sheryl Grant
URL:https://kalapoint.org/event/wacioa-info-session/2030-09-24/
CATEGORIES:Fireplace Room
END:VEVENT
BEGIN:VEVENT
DTSTART;TZID=America/Los_Angeles:20300925T130000
DTEND;TZID=America/Los_Angeles:20300925T163000
DTSTAMP:20260424T003623
CREATED:20241212T181428Z
LAST-MODIFIED:20250519T200841Z
UID:10010297-1916571600-1916584200@kalapoint.org
SUMMARY:SCHG Mtg
DESCRIPTION:Seattle Children’s Hospital Guild Meeting\, in Main room\, POC: Dawn Spencer: 360-344-2914 \n3-4 card tables
URL:https://kalapoint.org/event/private-event-54/2030-09-25/
CATEGORIES:Event/Activity outside KPOA,Fireplace Room,Main Room
END:VEVENT
BEGIN:VEVENT
DTSTART;TZID=America/Los_Angeles:20300926T093000
DTEND;TZID=America/Los_Angeles:20300926T233000
DTSTAMP:20260424T003623
CREATED:20250121T202112Z
LAST-MODIFIED:20250519T200825Z
UID:10010292-1916645400-1916695800@kalapoint.org
SUMMARY:Grounds Committee Meeting
DESCRIPTION:Grounds Committee Meeting in the Admin Conference Room
URL:https://kalapoint.org/event/grounds-committee-meeting-5/2030-09-26/
CATEGORIES:Admin Conference room
END:VEVENT
BEGIN:VEVENT
DTSTART;TZID=America/Los_Angeles:20301003T130000
DTEND;TZID=America/Los_Angeles:20301003T150000
DTSTAMP:20260424T003623
CREATED:20250217T195506Z
LAST-MODIFIED:20250813T210430Z
UID:10010053-1917262800-1917270000@kalapoint.org
SUMMARY:Elections Committee Meeting
DESCRIPTION:In the Fireplace Room
URL:https://kalapoint.org/event/elections-committee-meeting-9-2/2030-10-03/
CATEGORIES:Committee Meetings,Fireplace Room
END:VEVENT
BEGIN:VEVENT
DTSTART;TZID=America/Los_Angeles:20301008T120000
DTEND;TZID=America/Los_Angeles:20301008T160000
DTSTAMP:20260424T003623
CREATED:20260112T184846Z
LAST-MODIFIED:20260112T184848Z
UID:10010515-1917691200-1917705600@kalapoint.org
SUMMARY:PEO Meeting
DESCRIPTION:PEO Meeting in Fireplace room 1-3pm
URL:https://kalapoint.org/event/peo-meeting-5-2/2030-10-08/
CATEGORIES:Fireplace Room
END:VEVENT
BEGIN:VEVENT
DTSTART;TZID=America/Los_Angeles:20301010T090000
DTEND;TZID=America/Los_Angeles:20301010T110000
DTSTAMP:20260424T003623
CREATED:20250407T203158Z
LAST-MODIFIED:20250410T172307Z
UID:10010085-1917853200-1917860400@kalapoint.org
SUMMARY:Tree Committee
DESCRIPTION:In the Admin conference room
URL:https://kalapoint.org/event/tree-committee-2/2030-10-10/
CATEGORIES:Admin Conference room
END:VEVENT
BEGIN:VEVENT
DTSTART;VALUE=DATE:20301128
DTEND;VALUE=DATE:20301130
DTSTAMP:20260424T003623
CREATED:20251209T164845Z
LAST-MODIFIED:20260128T202334Z
UID:10010287-1922054400-1922227199@kalapoint.org
SUMMARY:Closed for Holiday
DESCRIPTION:Office and clubhouse closed for Thanksgiving
URL:https://kalapoint.org/event/closed-for-holiday/2030-11-28/
CATEGORIES:Holiday
END:VEVENT
BEGIN:VEVENT
DTSTART;VALUE=DATE:20310704
DTEND;VALUE=DATE:20310705
DTSTAMP:20260424T003623
CREATED:20251209T181400Z
LAST-MODIFIED:20251209T181400Z
UID:10010357-1940889600-1940975999@kalapoint.org
SUMMARY:Admin Office closed for July 4th Holiday
DESCRIPTION:No meetings in admin office conference room
URL:https://kalapoint.org/event/admin-office-closed-for-july-4th-holiday/2031-07-04/
CATEGORIES:Holiday
END:VEVENT
END:VCALENDAR