BEGIN:VCALENDAR
VERSION:2.0
PRODID:-//Kala Point Owners&#039; Association - ECPv6.15.20//NONSGML v1.0//EN
CALSCALE:GREGORIAN
METHOD:PUBLISH
X-WR-CALNAME:Kala Point Owners&#039; Association
X-ORIGINAL-URL:https://kalapoint.org
X-WR-CALDESC:Events for Kala Point Owners&#039; Association
REFRESH-INTERVAL;VALUE=DURATION:PT1H
X-Robots-Tag:noindex
X-PUBLISHED-TTL:PT1H
BEGIN:VTIMEZONE
TZID:UTC
BEGIN:STANDARD
TZOFFSETFROM:+0000
TZOFFSETTO:+0000
TZNAME:UTC
DTSTART:20290101T000000
END:STANDARD
END:VTIMEZONE
BEGIN:VTIMEZONE
TZID:America/Los_Angeles
BEGIN:DAYLIGHT
TZOFFSETFROM:-0800
TZOFFSETTO:-0700
TZNAME:PDT
DTSTART:20290311T100000
END:DAYLIGHT
BEGIN:STANDARD
TZOFFSETFROM:-0700
TZOFFSETTO:-0800
TZNAME:PST
DTSTART:20291104T090000
END:STANDARD
BEGIN:DAYLIGHT
TZOFFSETFROM:-0800
TZOFFSETTO:-0700
TZNAME:PDT
DTSTART:20300310T100000
END:DAYLIGHT
BEGIN:STANDARD
TZOFFSETFROM:-0700
TZOFFSETTO:-0800
TZNAME:PST
DTSTART:20301103T090000
END:STANDARD
BEGIN:DAYLIGHT
TZOFFSETFROM:-0800
TZOFFSETTO:-0700
TZNAME:PDT
DTSTART:20310309T100000
END:DAYLIGHT
BEGIN:STANDARD
TZOFFSETFROM:-0700
TZOFFSETTO:-0800
TZNAME:PST
DTSTART:20311102T090000
END:STANDARD
END:VTIMEZONE
BEGIN:VEVENT
DTSTART;TZID=UTC:20301001T090000
DTEND;TZID=UTC:20301001T100000
DTSTAMP:20260423T151930
CREATED:20220112T001223Z
LAST-MODIFIED:20250519T194945Z
UID:10010257-1917075600-1917079200@kalapoint.org
SUMMARY:Tai Chat
DESCRIPTION:Clubhouse Main Room
URL:https://kalapoint.org/event/tai-chat/2030-10-01/
CATEGORIES:Main Room
END:VEVENT
BEGIN:VEVENT
DTSTART;TZID=America/Los_Angeles:20301002T090000
DTEND;TZID=America/Los_Angeles:20301002T100000
DTSTAMP:20260423T151930
CREATED:20250821T170119Z
LAST-MODIFIED:20250821T170120Z
UID:10010322-1917162000-1917165600@kalapoint.org
SUMMARY:Women's Exercise
DESCRIPTION:Women’s Exercise group w/ AJ Laverty (class is full)
URL:https://kalapoint.org/event/exercise-group-w-aj-laverty-4/2030-10-02/
CATEGORIES:Main Room
END:VEVENT
BEGIN:VEVENT
DTSTART;TZID=UTC:20301003T090000
DTEND;TZID=UTC:20301003T100000
DTSTAMP:20260423T151930
CREATED:20220112T001223Z
LAST-MODIFIED:20250519T194945Z
UID:10010258-1917248400-1917252000@kalapoint.org
SUMMARY:Tai Chat
DESCRIPTION:Clubhouse Main Room
URL:https://kalapoint.org/event/tai-chat/2030-10-03/
CATEGORIES:Main Room
END:VEVENT
BEGIN:VEVENT
DTSTART;TZID=America/Los_Angeles:20301003T130000
DTEND;TZID=America/Los_Angeles:20301003T150000
DTSTAMP:20260423T151930
CREATED:20250217T195506Z
LAST-MODIFIED:20250813T210430Z
UID:10010053-1917262800-1917270000@kalapoint.org
SUMMARY:Elections Committee Meeting
DESCRIPTION:In the Fireplace Room
URL:https://kalapoint.org/event/elections-committee-meeting-9-2/2030-10-03/
CATEGORIES:Committee Meetings,Fireplace Room
END:VEVENT
BEGIN:VEVENT
DTSTART;TZID=America/Los_Angeles:20301004T090000
DTEND;TZID=America/Los_Angeles:20301004T100000
DTSTAMP:20260423T151930
CREATED:20250821T170119Z
LAST-MODIFIED:20250821T170120Z
UID:10010323-1917334800-1917338400@kalapoint.org
SUMMARY:Women's Exercise
DESCRIPTION:Women’s Exercise group w/ AJ Laverty (class is full)
URL:https://kalapoint.org/event/exercise-group-w-aj-laverty-4/2030-10-04/
CATEGORIES:Main Room
END:VEVENT
BEGIN:VEVENT
DTSTART;TZID=America/Los_Angeles:20301007T090000
DTEND;TZID=America/Los_Angeles:20301007T100000
DTSTAMP:20260423T151930
CREATED:20250821T170119Z
LAST-MODIFIED:20250821T170120Z
UID:10010324-1917594000-1917597600@kalapoint.org
SUMMARY:Women's Exercise
DESCRIPTION:Women’s Exercise group w/ AJ Laverty (class is full)
URL:https://kalapoint.org/event/exercise-group-w-aj-laverty-4/2030-10-07/
CATEGORIES:Main Room
END:VEVENT
BEGIN:VEVENT
DTSTART;TZID=UTC:20301008T090000
DTEND;TZID=UTC:20301008T100000
DTSTAMP:20260423T151930
CREATED:20220112T001223Z
LAST-MODIFIED:20250519T194945Z
UID:10010259-1917680400-1917684000@kalapoint.org
SUMMARY:Tai Chat
DESCRIPTION:Clubhouse Main Room
URL:https://kalapoint.org/event/tai-chat/2030-10-08/
CATEGORIES:Main Room
END:VEVENT
BEGIN:VEVENT
DTSTART;TZID=America/Los_Angeles:20301008T120000
DTEND;TZID=America/Los_Angeles:20301008T160000
DTSTAMP:20260423T151930
CREATED:20260112T184846Z
LAST-MODIFIED:20260112T184848Z
UID:10010515-1917691200-1917705600@kalapoint.org
SUMMARY:PEO Meeting
DESCRIPTION:PEO Meeting in Fireplace room 1-3pm
URL:https://kalapoint.org/event/peo-meeting-5-2/2030-10-08/
CATEGORIES:Fireplace Room
END:VEVENT
BEGIN:VEVENT
DTSTART;TZID=America/Los_Angeles:20301009T090000
DTEND;TZID=America/Los_Angeles:20301009T100000
DTSTAMP:20260423T151930
CREATED:20250821T170119Z
LAST-MODIFIED:20250821T170120Z
UID:10010325-1917766800-1917770400@kalapoint.org
SUMMARY:Women's Exercise
DESCRIPTION:Women’s Exercise group w/ AJ Laverty (class is full)
URL:https://kalapoint.org/event/exercise-group-w-aj-laverty-4/2030-10-09/
CATEGORIES:Main Room
END:VEVENT
BEGIN:VEVENT
DTSTART;TZID=UTC:20301010T090000
DTEND;TZID=UTC:20301010T100000
DTSTAMP:20260423T151930
CREATED:20220112T001223Z
LAST-MODIFIED:20250519T194945Z
UID:10010260-1917853200-1917856800@kalapoint.org
SUMMARY:Tai Chat
DESCRIPTION:Clubhouse Main Room
URL:https://kalapoint.org/event/tai-chat/2030-10-10/
CATEGORIES:Main Room
END:VEVENT
BEGIN:VEVENT
DTSTART;TZID=America/Los_Angeles:20301010T090000
DTEND;TZID=America/Los_Angeles:20301010T110000
DTSTAMP:20260423T151930
CREATED:20250407T203158Z
LAST-MODIFIED:20250410T172307Z
UID:10010085-1917853200-1917860400@kalapoint.org
SUMMARY:Tree Committee
DESCRIPTION:In the Admin conference room
URL:https://kalapoint.org/event/tree-committee-2/2030-10-10/
CATEGORIES:Admin Conference room
END:VEVENT
BEGIN:VEVENT
DTSTART;TZID=America/Los_Angeles:20301011T090000
DTEND;TZID=America/Los_Angeles:20301011T100000
DTSTAMP:20260423T151930
CREATED:20250821T170119Z
LAST-MODIFIED:20250821T170120Z
UID:10010326-1917939600-1917943200@kalapoint.org
SUMMARY:Women's Exercise
DESCRIPTION:Women’s Exercise group w/ AJ Laverty (class is full)
URL:https://kalapoint.org/event/exercise-group-w-aj-laverty-4/2030-10-11/
CATEGORIES:Main Room
END:VEVENT
BEGIN:VEVENT
DTSTART;TZID=America/Los_Angeles:20301014T090000
DTEND;TZID=America/Los_Angeles:20301014T100000
DTSTAMP:20260423T151930
CREATED:20250821T170119Z
LAST-MODIFIED:20250821T170120Z
UID:10010327-1918198800-1918202400@kalapoint.org
SUMMARY:Women's Exercise
DESCRIPTION:Women’s Exercise group w/ AJ Laverty (class is full)
URL:https://kalapoint.org/event/exercise-group-w-aj-laverty-4/2030-10-14/
CATEGORIES:Main Room
END:VEVENT
BEGIN:VEVENT
DTSTART;TZID=UTC:20301015T090000
DTEND;TZID=UTC:20301015T100000
DTSTAMP:20260423T151930
CREATED:20220112T001223Z
LAST-MODIFIED:20250519T194945Z
UID:10010261-1918285200-1918288800@kalapoint.org
SUMMARY:Tai Chat
DESCRIPTION:Clubhouse Main Room
URL:https://kalapoint.org/event/tai-chat/2030-10-15/
CATEGORIES:Main Room
END:VEVENT
BEGIN:VEVENT
DTSTART;TZID=America/Los_Angeles:20301016T090000
DTEND;TZID=America/Los_Angeles:20301016T100000
DTSTAMP:20260423T151930
CREATED:20250821T170119Z
LAST-MODIFIED:20250821T170120Z
UID:10010328-1918371600-1918375200@kalapoint.org
SUMMARY:Women's Exercise
DESCRIPTION:Women’s Exercise group w/ AJ Laverty (class is full)
URL:https://kalapoint.org/event/exercise-group-w-aj-laverty-4/2030-10-16/
CATEGORIES:Main Room
END:VEVENT
BEGIN:VEVENT
DTSTART;TZID=UTC:20301017T090000
DTEND;TZID=UTC:20301017T100000
DTSTAMP:20260423T151930
CREATED:20220112T001223Z
LAST-MODIFIED:20250519T194945Z
UID:10010262-1918458000-1918461600@kalapoint.org
SUMMARY:Tai Chat
DESCRIPTION:Clubhouse Main Room
URL:https://kalapoint.org/event/tai-chat/2030-10-17/
CATEGORIES:Main Room
END:VEVENT
BEGIN:VEVENT
DTSTART;TZID=America/Los_Angeles:20301017T093000
DTEND;TZID=America/Los_Angeles:20301017T120000
DTSTAMP:20260423T151930
CREATED:20251218T161529Z
LAST-MODIFIED:20251218T161529Z
UID:10010418-1918459800-1918468800@kalapoint.org
SUMMARY:Architectural Committee meeting
DESCRIPTION:In the Fireplace room
URL:https://kalapoint.org/event/architectural-committee-meeting-4/2030-10-17/
CATEGORIES:Committee Meetings,Fireplace Room
END:VEVENT
BEGIN:VEVENT
DTSTART;TZID=America/Los_Angeles:20301018T090000
DTEND;TZID=America/Los_Angeles:20301018T100000
DTSTAMP:20260423T151930
CREATED:20250821T170119Z
LAST-MODIFIED:20250821T170120Z
UID:10010329-1918544400-1918548000@kalapoint.org
SUMMARY:Women's Exercise
DESCRIPTION:Women’s Exercise group w/ AJ Laverty (class is full)
URL:https://kalapoint.org/event/exercise-group-w-aj-laverty-4/2030-10-18/
CATEGORIES:Main Room
END:VEVENT
BEGIN:VEVENT
DTSTART;TZID=America/Los_Angeles:20301021T090000
DTEND;TZID=America/Los_Angeles:20301021T100000
DTSTAMP:20260423T151930
CREATED:20250821T170119Z
LAST-MODIFIED:20250821T170120Z
UID:10010330-1918803600-1918807200@kalapoint.org
SUMMARY:Women's Exercise
DESCRIPTION:Women’s Exercise group w/ AJ Laverty (class is full)
URL:https://kalapoint.org/event/exercise-group-w-aj-laverty-4/2030-10-21/
CATEGORIES:Main Room
END:VEVENT
BEGIN:VEVENT
DTSTART;TZID=UTC:20301022T090000
DTEND;TZID=UTC:20301022T100000
DTSTAMP:20260423T151930
CREATED:20220112T001223Z
LAST-MODIFIED:20250519T194945Z
UID:10010263-1918890000-1918893600@kalapoint.org
SUMMARY:Tai Chat
DESCRIPTION:Clubhouse Main Room
URL:https://kalapoint.org/event/tai-chat/2030-10-22/
CATEGORIES:Main Room
END:VEVENT
BEGIN:VEVENT
DTSTART;TZID=America/Los_Angeles:20301022T130000
DTEND;TZID=America/Los_Angeles:20301022T150000
DTSTAMP:20260423T151930
CREATED:20260119T203608Z
LAST-MODIFIED:20260119T203608Z
UID:10010590-1918904400-1918911600@kalapoint.org
SUMMARY:WACIOA Info session
DESCRIPTION:In the fireplace room with Sheryl Grant
URL:https://kalapoint.org/event/wacioa-info-session/2030-10-22/
CATEGORIES:Fireplace Room
END:VEVENT
BEGIN:VEVENT
DTSTART;TZID=America/Los_Angeles:20301023T090000
DTEND;TZID=America/Los_Angeles:20301023T100000
DTSTAMP:20260423T151930
CREATED:20250821T170119Z
LAST-MODIFIED:20250821T170120Z
UID:10010331-1918976400-1918980000@kalapoint.org
SUMMARY:Women's Exercise
DESCRIPTION:Women’s Exercise group w/ AJ Laverty (class is full)
URL:https://kalapoint.org/event/exercise-group-w-aj-laverty-4/2030-10-23/
CATEGORIES:Main Room
END:VEVENT
BEGIN:VEVENT
DTSTART;TZID=America/Los_Angeles:20301023T130000
DTEND;TZID=America/Los_Angeles:20301023T163000
DTSTAMP:20260423T151930
CREATED:20241212T181428Z
LAST-MODIFIED:20250519T200841Z
UID:10010298-1918990800-1919003400@kalapoint.org
SUMMARY:SCHG Mtg
DESCRIPTION:Seattle Children’s Hospital Guild Meeting\, in Main room\, POC: Dawn Spencer: 360-344-2914 \n3-4 card tables
URL:https://kalapoint.org/event/private-event-54/2030-10-23/
CATEGORIES:Event/Activity outside KPOA,Fireplace Room,Main Room
END:VEVENT
BEGIN:VEVENT
DTSTART;TZID=UTC:20301024T090000
DTEND;TZID=UTC:20301024T100000
DTSTAMP:20260423T151930
CREATED:20220112T001223Z
LAST-MODIFIED:20250519T194945Z
UID:10010264-1919062800-1919066400@kalapoint.org
SUMMARY:Tai Chat
DESCRIPTION:Clubhouse Main Room
URL:https://kalapoint.org/event/tai-chat/2030-10-24/
CATEGORIES:Main Room
END:VEVENT
BEGIN:VEVENT
DTSTART;TZID=America/Los_Angeles:20301024T093000
DTEND;TZID=America/Los_Angeles:20301024T233000
DTSTAMP:20260423T151930
CREATED:20250121T202112Z
LAST-MODIFIED:20250519T200825Z
UID:10010293-1919064600-1919115000@kalapoint.org
SUMMARY:Grounds Committee Meeting
DESCRIPTION:Grounds Committee Meeting in the Admin Conference Room
URL:https://kalapoint.org/event/grounds-committee-meeting-5/2030-10-24/
CATEGORIES:Admin Conference room
END:VEVENT
BEGIN:VEVENT
DTSTART;TZID=America/Los_Angeles:20301025T090000
DTEND;TZID=America/Los_Angeles:20301025T100000
DTSTAMP:20260423T151930
CREATED:20250821T170119Z
LAST-MODIFIED:20250821T170120Z
UID:10010332-1919149200-1919152800@kalapoint.org
SUMMARY:Women's Exercise
DESCRIPTION:Women’s Exercise group w/ AJ Laverty (class is full)
URL:https://kalapoint.org/event/exercise-group-w-aj-laverty-4/2030-10-25/
CATEGORIES:Main Room
END:VEVENT
BEGIN:VEVENT
DTSTART;TZID=America/Los_Angeles:20301028T090000
DTEND;TZID=America/Los_Angeles:20301028T100000
DTSTAMP:20260423T151930
CREATED:20250821T170119Z
LAST-MODIFIED:20250821T170120Z
UID:10010333-1919408400-1919412000@kalapoint.org
SUMMARY:Women's Exercise
DESCRIPTION:Women’s Exercise group w/ AJ Laverty (class is full)
URL:https://kalapoint.org/event/exercise-group-w-aj-laverty-4/2030-10-28/
CATEGORIES:Main Room
END:VEVENT
BEGIN:VEVENT
DTSTART;TZID=UTC:20301029T090000
DTEND;TZID=UTC:20301029T100000
DTSTAMP:20260423T151930
CREATED:20220112T001223Z
LAST-MODIFIED:20250519T194945Z
UID:10010265-1919494800-1919498400@kalapoint.org
SUMMARY:Tai Chat
DESCRIPTION:Clubhouse Main Room
URL:https://kalapoint.org/event/tai-chat/2030-10-29/
CATEGORIES:Main Room
END:VEVENT
BEGIN:VEVENT
DTSTART;TZID=America/Los_Angeles:20301030T090000
DTEND;TZID=America/Los_Angeles:20301030T100000
DTSTAMP:20260423T151930
CREATED:20250821T170119Z
LAST-MODIFIED:20250821T170120Z
UID:10010334-1919581200-1919584800@kalapoint.org
SUMMARY:Women's Exercise
DESCRIPTION:Women’s Exercise group w/ AJ Laverty (class is full)
URL:https://kalapoint.org/event/exercise-group-w-aj-laverty-4/2030-10-30/
CATEGORIES:Main Room
END:VEVENT
BEGIN:VEVENT
DTSTART;TZID=UTC:20301031T090000
DTEND;TZID=UTC:20301031T100000
DTSTAMP:20260423T151930
CREATED:20220112T001223Z
LAST-MODIFIED:20250519T194945Z
UID:10010266-1919667600-1919671200@kalapoint.org
SUMMARY:Tai Chat
DESCRIPTION:Clubhouse Main Room
URL:https://kalapoint.org/event/tai-chat/2030-10-31/
CATEGORIES:Main Room
END:VEVENT
END:VCALENDAR