BEGIN:VCALENDAR
VERSION:2.0
PRODID:-//Kala Point Owners&#039; Association - ECPv6.15.20//NONSGML v1.0//EN
CALSCALE:GREGORIAN
METHOD:PUBLISH
X-WR-CALNAME:Kala Point Owners&#039; Association
X-ORIGINAL-URL:https://kalapoint.org
X-WR-CALDESC:Events for Kala Point Owners&#039; Association
REFRESH-INTERVAL;VALUE=DURATION:PT1H
X-Robots-Tag:noindex
X-PUBLISHED-TTL:PT1H
BEGIN:VTIMEZONE
TZID:America/Los_Angeles
BEGIN:DAYLIGHT
TZOFFSETFROM:-0800
TZOFFSETTO:-0700
TZNAME:PDT
DTSTART:20250309T100000
END:DAYLIGHT
BEGIN:STANDARD
TZOFFSETFROM:-0700
TZOFFSETTO:-0800
TZNAME:PST
DTSTART:20251102T090000
END:STANDARD
BEGIN:DAYLIGHT
TZOFFSETFROM:-0800
TZOFFSETTO:-0700
TZNAME:PDT
DTSTART:20260308T100000
END:DAYLIGHT
BEGIN:STANDARD
TZOFFSETFROM:-0700
TZOFFSETTO:-0800
TZNAME:PST
DTSTART:20261101T090000
END:STANDARD
BEGIN:DAYLIGHT
TZOFFSETFROM:-0800
TZOFFSETTO:-0700
TZNAME:PDT
DTSTART:20270314T100000
END:DAYLIGHT
BEGIN:STANDARD
TZOFFSETFROM:-0700
TZOFFSETTO:-0800
TZNAME:PST
DTSTART:20271107T090000
END:STANDARD
END:VTIMEZONE
BEGIN:VEVENT
DTSTART;TZID=America/Los_Angeles:20260427T103000
DTEND;TZID=America/Los_Angeles:20260427T160000
DTSTAMP:20260421T062620
CREATED:20220919T205033Z
LAST-MODIFIED:20250519T194926Z
UID:10005451-1777285800-1777305600@kalapoint.org
SUMMARY:Bridge Group
DESCRIPTION:Bridge in the Clubhouse Main Room
URL:https://kalapoint.org/event/bridge-group/2026-04-27/
CATEGORIES:Clubhouse Events,Main Room
END:VEVENT
BEGIN:VEVENT
DTSTART;TZID=America/Los_Angeles:20260504T103000
DTEND;TZID=America/Los_Angeles:20260504T160000
DTSTAMP:20260421T062620
CREATED:20220919T205033Z
LAST-MODIFIED:20250519T194926Z
UID:10005452-1777890600-1777910400@kalapoint.org
SUMMARY:Bridge Group
DESCRIPTION:Bridge in the Clubhouse Main Room
URL:https://kalapoint.org/event/bridge-group/2026-05-04/
CATEGORIES:Clubhouse Events,Main Room
END:VEVENT
BEGIN:VEVENT
DTSTART;TZID=America/Los_Angeles:20260511T103000
DTEND;TZID=America/Los_Angeles:20260511T160000
DTSTAMP:20260421T062620
CREATED:20220919T205033Z
LAST-MODIFIED:20250519T194926Z
UID:10005453-1778495400-1778515200@kalapoint.org
SUMMARY:Bridge Group
DESCRIPTION:Bridge in the Clubhouse Main Room
URL:https://kalapoint.org/event/bridge-group/2026-05-11/
CATEGORIES:Clubhouse Events,Main Room
END:VEVENT
BEGIN:VEVENT
DTSTART;TZID=America/Los_Angeles:20260518T103000
DTEND;TZID=America/Los_Angeles:20260518T160000
DTSTAMP:20260421T062620
CREATED:20220919T205033Z
LAST-MODIFIED:20250519T194926Z
UID:10005454-1779100200-1779120000@kalapoint.org
SUMMARY:Bridge Group
DESCRIPTION:Bridge in the Clubhouse Main Room
URL:https://kalapoint.org/event/bridge-group/2026-05-18/
CATEGORIES:Clubhouse Events,Main Room
END:VEVENT
BEGIN:VEVENT
DTSTART;TZID=America/Los_Angeles:20260525T103000
DTEND;TZID=America/Los_Angeles:20260525T160000
DTSTAMP:20260421T062620
CREATED:20220919T205033Z
LAST-MODIFIED:20250519T194926Z
UID:10005455-1779705000-1779724800@kalapoint.org
SUMMARY:Bridge Group
DESCRIPTION:Bridge in the Clubhouse Main Room
URL:https://kalapoint.org/event/bridge-group/2026-05-25/
CATEGORIES:Clubhouse Events,Main Room
END:VEVENT
BEGIN:VEVENT
DTSTART;TZID=America/Los_Angeles:20260601T103000
DTEND;TZID=America/Los_Angeles:20260601T160000
DTSTAMP:20260421T062620
CREATED:20220919T205033Z
LAST-MODIFIED:20250519T194926Z
UID:10005456-1780309800-1780329600@kalapoint.org
SUMMARY:Bridge Group
DESCRIPTION:Bridge in the Clubhouse Main Room
URL:https://kalapoint.org/event/bridge-group/2026-06-01/
CATEGORIES:Clubhouse Events,Main Room
END:VEVENT
BEGIN:VEVENT
DTSTART;TZID=America/Los_Angeles:20260608T103000
DTEND;TZID=America/Los_Angeles:20260608T160000
DTSTAMP:20260421T062620
CREATED:20220919T205033Z
LAST-MODIFIED:20250519T194926Z
UID:10005457-1780914600-1780934400@kalapoint.org
SUMMARY:Bridge Group
DESCRIPTION:Bridge in the Clubhouse Main Room
URL:https://kalapoint.org/event/bridge-group/2026-06-08/
CATEGORIES:Clubhouse Events,Main Room
END:VEVENT
BEGIN:VEVENT
DTSTART;TZID=America/Los_Angeles:20260615T103000
DTEND;TZID=America/Los_Angeles:20260615T160000
DTSTAMP:20260421T062620
CREATED:20220919T205033Z
LAST-MODIFIED:20250519T194926Z
UID:10005458-1781519400-1781539200@kalapoint.org
SUMMARY:Bridge Group
DESCRIPTION:Bridge in the Clubhouse Main Room
URL:https://kalapoint.org/event/bridge-group/2026-06-15/
CATEGORIES:Clubhouse Events,Main Room
END:VEVENT
BEGIN:VEVENT
DTSTART;TZID=America/Los_Angeles:20260622T103000
DTEND;TZID=America/Los_Angeles:20260622T160000
DTSTAMP:20260421T062620
CREATED:20220919T205033Z
LAST-MODIFIED:20250519T194926Z
UID:10005459-1782124200-1782144000@kalapoint.org
SUMMARY:Bridge Group
DESCRIPTION:Bridge in the Clubhouse Main Room
URL:https://kalapoint.org/event/bridge-group/2026-06-22/
CATEGORIES:Clubhouse Events,Main Room
END:VEVENT
BEGIN:VEVENT
DTSTART;TZID=America/Los_Angeles:20260629T103000
DTEND;TZID=America/Los_Angeles:20260629T160000
DTSTAMP:20260421T062620
CREATED:20220919T205033Z
LAST-MODIFIED:20250519T194926Z
UID:10005460-1782729000-1782748800@kalapoint.org
SUMMARY:Bridge Group
DESCRIPTION:Bridge in the Clubhouse Main Room
URL:https://kalapoint.org/event/bridge-group/2026-06-29/
CATEGORIES:Clubhouse Events,Main Room
END:VEVENT
BEGIN:VEVENT
DTSTART;TZID=America/Los_Angeles:20260706T103000
DTEND;TZID=America/Los_Angeles:20260706T160000
DTSTAMP:20260421T062620
CREATED:20220919T205033Z
LAST-MODIFIED:20250519T194926Z
UID:10005461-1783333800-1783353600@kalapoint.org
SUMMARY:Bridge Group
DESCRIPTION:Bridge in the Clubhouse Main Room
URL:https://kalapoint.org/event/bridge-group/2026-07-06/
CATEGORIES:Clubhouse Events,Main Room
END:VEVENT
BEGIN:VEVENT
DTSTART;TZID=America/Los_Angeles:20260713T103000
DTEND;TZID=America/Los_Angeles:20260713T160000
DTSTAMP:20260421T062620
CREATED:20220919T205033Z
LAST-MODIFIED:20250519T194926Z
UID:10005462-1783938600-1783958400@kalapoint.org
SUMMARY:Bridge Group
DESCRIPTION:Bridge in the Clubhouse Main Room
URL:https://kalapoint.org/event/bridge-group/2026-07-13/
CATEGORIES:Clubhouse Events,Main Room
END:VEVENT
BEGIN:VEVENT
DTSTART;TZID=America/Los_Angeles:20260720T103000
DTEND;TZID=America/Los_Angeles:20260720T160000
DTSTAMP:20260421T062620
CREATED:20220919T205033Z
LAST-MODIFIED:20250519T194926Z
UID:10005463-1784543400-1784563200@kalapoint.org
SUMMARY:Bridge Group
DESCRIPTION:Bridge in the Clubhouse Main Room
URL:https://kalapoint.org/event/bridge-group/2026-07-20/
CATEGORIES:Clubhouse Events,Main Room
END:VEVENT
BEGIN:VEVENT
DTSTART;TZID=America/Los_Angeles:20260727T103000
DTEND;TZID=America/Los_Angeles:20260727T160000
DTSTAMP:20260421T062620
CREATED:20220919T205033Z
LAST-MODIFIED:20250519T194926Z
UID:10005464-1785148200-1785168000@kalapoint.org
SUMMARY:Bridge Group
DESCRIPTION:Bridge in the Clubhouse Main Room
URL:https://kalapoint.org/event/bridge-group/2026-07-27/
CATEGORIES:Clubhouse Events,Main Room
END:VEVENT
BEGIN:VEVENT
DTSTART;TZID=America/Los_Angeles:20260803T103000
DTEND;TZID=America/Los_Angeles:20260803T160000
DTSTAMP:20260421T062620
CREATED:20220919T205033Z
LAST-MODIFIED:20250519T194926Z
UID:10005465-1785753000-1785772800@kalapoint.org
SUMMARY:Bridge Group
DESCRIPTION:Bridge in the Clubhouse Main Room
URL:https://kalapoint.org/event/bridge-group/2026-08-03/
CATEGORIES:Clubhouse Events,Main Room
END:VEVENT
BEGIN:VEVENT
DTSTART;TZID=America/Los_Angeles:20260810T103000
DTEND;TZID=America/Los_Angeles:20260810T160000
DTSTAMP:20260421T062620
CREATED:20220919T205033Z
LAST-MODIFIED:20250519T194926Z
UID:10005466-1786357800-1786377600@kalapoint.org
SUMMARY:Bridge Group
DESCRIPTION:Bridge in the Clubhouse Main Room
URL:https://kalapoint.org/event/bridge-group/2026-08-10/
CATEGORIES:Clubhouse Events,Main Room
END:VEVENT
BEGIN:VEVENT
DTSTART;TZID=America/Los_Angeles:20260817T103000
DTEND;TZID=America/Los_Angeles:20260817T160000
DTSTAMP:20260421T062620
CREATED:20220919T205033Z
LAST-MODIFIED:20250519T194926Z
UID:10005467-1786962600-1786982400@kalapoint.org
SUMMARY:Bridge Group
DESCRIPTION:Bridge in the Clubhouse Main Room
URL:https://kalapoint.org/event/bridge-group/2026-08-17/
CATEGORIES:Clubhouse Events,Main Room
END:VEVENT
BEGIN:VEVENT
DTSTART;TZID=America/Los_Angeles:20260824T103000
DTEND;TZID=America/Los_Angeles:20260824T160000
DTSTAMP:20260421T062620
CREATED:20220919T205033Z
LAST-MODIFIED:20250519T194926Z
UID:10005468-1787567400-1787587200@kalapoint.org
SUMMARY:Bridge Group
DESCRIPTION:Bridge in the Clubhouse Main Room
URL:https://kalapoint.org/event/bridge-group/2026-08-24/
CATEGORIES:Clubhouse Events,Main Room
END:VEVENT
BEGIN:VEVENT
DTSTART;TZID=America/Los_Angeles:20260831T103000
DTEND;TZID=America/Los_Angeles:20260831T160000
DTSTAMP:20260421T062620
CREATED:20220919T205033Z
LAST-MODIFIED:20250519T194926Z
UID:10005469-1788172200-1788192000@kalapoint.org
SUMMARY:Bridge Group
DESCRIPTION:Bridge in the Clubhouse Main Room
URL:https://kalapoint.org/event/bridge-group/2026-08-31/
CATEGORIES:Clubhouse Events,Main Room
END:VEVENT
BEGIN:VEVENT
DTSTART;TZID=America/Los_Angeles:20260907T103000
DTEND;TZID=America/Los_Angeles:20260907T160000
DTSTAMP:20260421T062620
CREATED:20220919T205033Z
LAST-MODIFIED:20250519T194926Z
UID:10005470-1788777000-1788796800@kalapoint.org
SUMMARY:Bridge Group
DESCRIPTION:Bridge in the Clubhouse Main Room
URL:https://kalapoint.org/event/bridge-group/2026-09-07/
CATEGORIES:Clubhouse Events,Main Room
END:VEVENT
BEGIN:VEVENT
DTSTART;TZID=America/Los_Angeles:20260914T103000
DTEND;TZID=America/Los_Angeles:20260914T160000
DTSTAMP:20260421T062620
CREATED:20220919T205033Z
LAST-MODIFIED:20250519T194926Z
UID:10005471-1789381800-1789401600@kalapoint.org
SUMMARY:Bridge Group
DESCRIPTION:Bridge in the Clubhouse Main Room
URL:https://kalapoint.org/event/bridge-group/2026-09-14/
CATEGORIES:Clubhouse Events,Main Room
END:VEVENT
BEGIN:VEVENT
DTSTART;TZID=America/Los_Angeles:20260921T103000
DTEND;TZID=America/Los_Angeles:20260921T160000
DTSTAMP:20260421T062620
CREATED:20220919T205033Z
LAST-MODIFIED:20250519T194926Z
UID:10005472-1789986600-1790006400@kalapoint.org
SUMMARY:Bridge Group
DESCRIPTION:Bridge in the Clubhouse Main Room
URL:https://kalapoint.org/event/bridge-group/2026-09-21/
CATEGORIES:Clubhouse Events,Main Room
END:VEVENT
BEGIN:VEVENT
DTSTART;TZID=America/Los_Angeles:20260928T103000
DTEND;TZID=America/Los_Angeles:20260928T160000
DTSTAMP:20260421T062620
CREATED:20220919T205033Z
LAST-MODIFIED:20250519T194926Z
UID:10005473-1790591400-1790611200@kalapoint.org
SUMMARY:Bridge Group
DESCRIPTION:Bridge in the Clubhouse Main Room
URL:https://kalapoint.org/event/bridge-group/2026-09-28/
CATEGORIES:Clubhouse Events,Main Room
END:VEVENT
BEGIN:VEVENT
DTSTART;TZID=America/Los_Angeles:20261005T103000
DTEND;TZID=America/Los_Angeles:20261005T160000
DTSTAMP:20260421T062620
CREATED:20220919T205033Z
LAST-MODIFIED:20250519T194926Z
UID:10005474-1791196200-1791216000@kalapoint.org
SUMMARY:Bridge Group
DESCRIPTION:Bridge in the Clubhouse Main Room
URL:https://kalapoint.org/event/bridge-group/2026-10-05/
CATEGORIES:Clubhouse Events,Main Room
END:VEVENT
BEGIN:VEVENT
DTSTART;TZID=America/Los_Angeles:20261012T103000
DTEND;TZID=America/Los_Angeles:20261012T160000
DTSTAMP:20260421T062620
CREATED:20220919T205033Z
LAST-MODIFIED:20250519T194926Z
UID:10005475-1791801000-1791820800@kalapoint.org
SUMMARY:Bridge Group
DESCRIPTION:Bridge in the Clubhouse Main Room
URL:https://kalapoint.org/event/bridge-group/2026-10-12/
CATEGORIES:Clubhouse Events,Main Room
END:VEVENT
BEGIN:VEVENT
DTSTART;TZID=America/Los_Angeles:20261019T103000
DTEND;TZID=America/Los_Angeles:20261019T160000
DTSTAMP:20260421T062620
CREATED:20220919T205033Z
LAST-MODIFIED:20250519T194926Z
UID:10005476-1792405800-1792425600@kalapoint.org
SUMMARY:Bridge Group
DESCRIPTION:Bridge in the Clubhouse Main Room
URL:https://kalapoint.org/event/bridge-group/2026-10-19/
CATEGORIES:Clubhouse Events,Main Room
END:VEVENT
BEGIN:VEVENT
DTSTART;TZID=America/Los_Angeles:20261026T103000
DTEND;TZID=America/Los_Angeles:20261026T160000
DTSTAMP:20260421T062620
CREATED:20220919T205033Z
LAST-MODIFIED:20250519T194926Z
UID:10005477-1793010600-1793030400@kalapoint.org
SUMMARY:Bridge Group
DESCRIPTION:Bridge in the Clubhouse Main Room
URL:https://kalapoint.org/event/bridge-group/2026-10-26/
CATEGORIES:Clubhouse Events,Main Room
END:VEVENT
BEGIN:VEVENT
DTSTART;TZID=America/Los_Angeles:20261102T103000
DTEND;TZID=America/Los_Angeles:20261102T160000
DTSTAMP:20260421T062620
CREATED:20220919T205033Z
LAST-MODIFIED:20250519T194926Z
UID:10005478-1793615400-1793635200@kalapoint.org
SUMMARY:Bridge Group
DESCRIPTION:Bridge in the Clubhouse Main Room
URL:https://kalapoint.org/event/bridge-group/2026-11-02/
CATEGORIES:Clubhouse Events,Main Room
END:VEVENT
BEGIN:VEVENT
DTSTART;TZID=America/Los_Angeles:20261109T103000
DTEND;TZID=America/Los_Angeles:20261109T160000
DTSTAMP:20260421T062620
CREATED:20220919T205033Z
LAST-MODIFIED:20250519T194926Z
UID:10005479-1794220200-1794240000@kalapoint.org
SUMMARY:Bridge Group
DESCRIPTION:Bridge in the Clubhouse Main Room
URL:https://kalapoint.org/event/bridge-group/2026-11-09/
CATEGORIES:Clubhouse Events,Main Room
END:VEVENT
BEGIN:VEVENT
DTSTART;TZID=America/Los_Angeles:20261116T103000
DTEND;TZID=America/Los_Angeles:20261116T160000
DTSTAMP:20260421T062620
CREATED:20220919T205033Z
LAST-MODIFIED:20250519T194926Z
UID:10005480-1794825000-1794844800@kalapoint.org
SUMMARY:Bridge Group
DESCRIPTION:Bridge in the Clubhouse Main Room
URL:https://kalapoint.org/event/bridge-group/2026-11-16/
CATEGORIES:Clubhouse Events,Main Room
END:VEVENT
END:VCALENDAR