BEGIN:VCALENDAR
VERSION:2.0
PRODID:-//Kala Point Owners&#039; Association - ECPv6.15.20//NONSGML v1.0//EN
CALSCALE:GREGORIAN
METHOD:PUBLISH
X-WR-CALNAME:Kala Point Owners&#039; Association
X-ORIGINAL-URL:https://kalapoint.org
X-WR-CALDESC:Events for Kala Point Owners&#039; Association
REFRESH-INTERVAL;VALUE=DURATION:PT1H
X-Robots-Tag:noindex
X-PUBLISHED-TTL:PT1H
BEGIN:VTIMEZONE
TZID:America/Los_Angeles
BEGIN:DAYLIGHT
TZOFFSETFROM:-0800
TZOFFSETTO:-0700
TZNAME:PDT
DTSTART:20250309T100000
END:DAYLIGHT
BEGIN:STANDARD
TZOFFSETFROM:-0700
TZOFFSETTO:-0800
TZNAME:PST
DTSTART:20251102T090000
END:STANDARD
BEGIN:DAYLIGHT
TZOFFSETFROM:-0800
TZOFFSETTO:-0700
TZNAME:PDT
DTSTART:20260308T100000
END:DAYLIGHT
BEGIN:STANDARD
TZOFFSETFROM:-0700
TZOFFSETTO:-0800
TZNAME:PST
DTSTART:20261101T090000
END:STANDARD
BEGIN:DAYLIGHT
TZOFFSETFROM:-0800
TZOFFSETTO:-0700
TZNAME:PDT
DTSTART:20270314T100000
END:DAYLIGHT
BEGIN:STANDARD
TZOFFSETFROM:-0700
TZOFFSETTO:-0800
TZNAME:PST
DTSTART:20271107T090000
END:STANDARD
END:VTIMEZONE
BEGIN:VEVENT
DTSTART;TZID=America/Los_Angeles:20260421T103000
DTEND;TZID=America/Los_Angeles:20260421T123000
DTSTAMP:20260419T085051
CREATED:20251119T142326Z
LAST-MODIFIED:20251119T182805Z
UID:10010202-1776767400-1776774600@kalapoint.org
SUMMARY:Kala Bluffs Condo Association Meeting
DESCRIPTION:in the main room S. Moses
URL:https://kalapoint.org/event/kala-bluffs-condo-association-meeting-3/2026-04-21/
CATEGORIES:Main Room
END:VEVENT
BEGIN:VEVENT
DTSTART;TZID=America/Los_Angeles:20260707T103000
DTEND;TZID=America/Los_Angeles:20260707T123000
DTSTAMP:20260419T085051
CREATED:20251119T142326Z
LAST-MODIFIED:20251119T182805Z
UID:10010208-1783420200-1783427400@kalapoint.org
SUMMARY:Kala Bluffs Condo Association Meeting
DESCRIPTION:in the main room S. Moses
URL:https://kalapoint.org/event/kala-bluffs-condo-association-meeting-3/2026-07-07/
CATEGORIES:Main Room
END:VEVENT
BEGIN:VEVENT
DTSTART;TZID=America/Los_Angeles:20261020T103000
DTEND;TZID=America/Los_Angeles:20261020T123000
DTSTAMP:20260419T085051
CREATED:20251119T142326Z
LAST-MODIFIED:20251119T182805Z
UID:10010204-1792492200-1792499400@kalapoint.org
SUMMARY:Kala Bluffs Condo Association Meeting
DESCRIPTION:in the main room S. Moses
URL:https://kalapoint.org/event/kala-bluffs-condo-association-meeting-3/2026-10-20/
CATEGORIES:Main Room
END:VEVENT
BEGIN:VEVENT
DTSTART;TZID=America/Los_Angeles:20261202T130000
DTEND;TZID=America/Los_Angeles:20261202T160000
DTSTAMP:20260419T085051
CREATED:20251119T142326Z
LAST-MODIFIED:20251119T182805Z
UID:10010205-1796216400-1796227200@kalapoint.org
SUMMARY:Kala Bluffs Condo Association Meeting
DESCRIPTION:in the main room S. Moses
URL:https://kalapoint.org/event/kala-bluffs-condo-association-meeting-3/2026-12-02/
CATEGORIES:Main Room
END:VEVENT
END:VCALENDAR